BEGIN:VCALENDAR
VERSION:2.0
PRODID:-//Усадьба Тауенай - ECPv6.13.2.1//NONSGML v1.0//EN
CALSCALE:GREGORIAN
METHOD:PUBLISH
X-WR-CALNAME:Усадьба Тауенай
X-ORIGINAL-URL:https://taujenudvaras.lt/ru/
X-WR-CALDESC:Мероприятия для Усадьба Тауенай
REFRESH-INTERVAL;VALUE=DURATION:PT1H
X-Robots-Tag:noindex
X-PUBLISHED-TTL:PT1H
BEGIN:VTIMEZONE
TZID:Europe/Vilnius
BEGIN:DAYLIGHT
TZOFFSETFROM:+0200
TZOFFSETTO:+0300
TZNAME:EEST
DTSTART:20250330T010000
END:DAYLIGHT
BEGIN:STANDARD
TZOFFSETFROM:+0300
TZOFFSETTO:+0200
TZNAME:EET
DTSTART:20251026T010000
END:STANDARD
END:VTIMEZONE
BEGIN:VEVENT
DTSTART;VALUE=DATE:20250118
DTEND;VALUE=DATE:20250303
DTSTAMP:20260421T174923
CREATED:20250429T125908Z
LAST-MODIFIED:20250430T103809Z
UID:8043-1737158400-1740959999@taujenudvaras.lt
SUMMARY:Фестиваль ледяных скульптур АТЛАНТИДА (продолжение)
DESCRIPTION:Фестиваль ледяных скульптур ATLANTIDA - событие для всей семьиМеждународная выставка ледяных скульптур в Литве.\n18 января - 2 марта 2025 года\, по будням 10-17\, по выходным 10-19. \nВ этом году в поместье Тауйенай открылись ворота в океанский город ATLANTIS.Тема Атлантиды окутана мифами и легендами\, и в этом году таинственный затонувший город ожил в усадьбе Тауйенай в виде уникального мероприятия по созданию ледяных скульптур. Мы приглашаем Вас погрузиться в тайны Атлантиды. На мероприятии Вы сможете увидеть впечатляющие ледяные скульптуры: гигантского кракена\, Посейдона с трезубцем\, крабов\, акулу\, фрагменты затонувшего корабля\, кораллы и многие другие впечатляющие части оставшегося города. \nКаждая скульптура - это не просто кусок льда. Это видение и талант скульптора\, выраженные уникальным образом. Это возможность увидеть\, как обычный элемент природы - лед - превращается в захватывающее произведение искусства. Свои работы представят скульпторы из Аргентины\, Дании\, Украины\, Литвы и Латвии. \nРядом с ледяными скульптурами будет работать ярмарка с пончиками\, вафлями\, горячими напитками и т.д.\, а кафе «Lėkštės studija" на территории усадьбы позаботится о голодных. \nЦены на билетыДетям до 3 лет вход бесплатный.\nпонедельник-пятница (будние дни) - 10евро (дети от 3 до 14 лет включительно\, а также пожилые люди и инвалиды - 7 евро); \nсуббота-воскресенье - 13 евро (дети от 3 до 14 лет включительно\, а также пожилые люди и инвалиды - 10 евро).\n\n \nСкидкиСкидки до 43% для друзей в Facebook!  Чтобы получить скидку\, посетите наш аккаунт Taujėnų dvaras (скидка будет видна только тем\, кто стал нашим другом). \nГруппам из 15 и более человек предоставляются скидки до 43 % (по поводу групповых билетов звони +370 699 27566).  \nСкидки на месте не действуют. \nВ стоимость билета входит прогулка по усадьбе Тауйенай\, парку и зверинцу. \nПожалуйста\, относитесь ответственно ко всем инсталляциям\, декорациям и местам для фотосъемки. Держитесь на безопасном расстоянии\, не трогайте экспонаты без разрешения и следите за тем\, чтобы всем было приятно. \n					\n					Адрес: улица Дваро\, 2\, деревня Тауйенай\, район Укмерге.
URL:https://taujenudvaras.lt/ru/event/ledo-skulpturu-festivalis-atlantida-pratesta/
LOCATION:Усадьба Тауйенай\, Дваро г. 2\, Деревня Тауйенай\, Укмерге р. Сав.\, Таужену сен.\, LT-20352\, Lietuva
CATEGORIES:Фестивали
ATTACH;FMTTYPE=image/jpeg:https://taujenudvaras.lt/wp-content/uploads/2024/12/taujenudvaras-atlantida.jpg
ORGANIZER;CN="%D0%A3%D1%81%D0%B0%D0%B4%D1%8C%D0%B1%D0%B0 %D0%A2%D0%B0%D1%83%D0%B9%D0%B5%D0%BD%D0%B0%D0%B9":MAILTO:info@taujenudvaras.lt
END:VEVENT
BEGIN:VEVENT
DTSTART;VALUE=DATE:20250308
DTEND;VALUE=DATE:20250309
DTSTAMP:20260421T174923
CREATED:20250429T130000Z
LAST-MODIFIED:20250430T094813Z
UID:8047-1741392000-1741478399@taujenudvaras.lt
SUMMARY:Концерт для друзей | Перкуссия - Укмерге 2025
DESCRIPTION:Уже в 20-й раз зрелищный фестиваль ударной музыки «Percussion Ukmergė 2025″ приглашает тебя на исключительную фиесту ритмов и звуков в поместье Тауйенай! \nВ необычном концерте примет участие португальский ас барабанов и перкуссии Васко Трилла вместе с одним из самых известных перкуссионистов Литвы Павлом Гюнтером\, виолончелистом-виртуозом Глебом Пышняком и Гунтарсом Фрейбергсом\, основателем латвийского перкуссионного ансамбля «Perpetuum Ritmico". \nВечер мастерства\, неограниченной импровизации и захватывающей дух ритмической магии. Не упусти шанс испытать живую музыку\, пробуждающую душу!  \nКупить билеты
URL:https://taujenudvaras.lt/ru/event/kontsiert-dlia-druziei-pierkussiia-ukmierghie-2025/
LOCATION:Усадьба Тауйенай\, Дваро г. 2\, Деревня Тауйенай\, Укмерге р. Сав.\, Таужену сен.\, LT-20352\, Lietuva
CATEGORIES:Концерты
ATTACH;FMTTYPE=image/jpeg:https://taujenudvaras.lt/wp-content/uploads/2025/02/td-koncertas-draugams.jpg
ORGANIZER;CN="%D0%A3%D1%81%D0%B0%D0%B4%D1%8C%D0%B1%D0%B0 %D0%A2%D0%B0%D1%83%D0%B9%D0%B5%D0%BD%D0%B0%D0%B9":MAILTO:info@taujenudvaras.lt
END:VEVENT
BEGIN:VEVENT
DTSTART;TZID=Europe/Vilnius:20250318T130000
DTEND;TZID=Europe/Vilnius:20250318T160000
DTSTAMP:20260421T174923
CREATED:20250430T073059Z
LAST-MODIFIED:20250430T073059Z
UID:8253-1742302800-1742313600@taujenudvaras.lt
SUMMARY:Семинар для женщин "Как говорить с мужчинами\, чтобы они услышали?" + процедуры в сауне и развлечения для детей
DESCRIPTION:18 марта в 13:00 приглашаем вас принять участие в семинаре «Чего хотят женщины и как донести это до мужчин?" лектора\, предпринимателя Валерия Красоцкого\, который пройдет в усадьбе «Тауйенай"."\nПосле семинара мы угостим вас обедом\, а затем отправимся в сауну\, чтобы насладиться отшелушивающими банными процедурами и травяным чаем. \nНа этом семинаре вы узнаете:\n- Важно ли любить или быть любимым? Баланс ценностей - что это такое?\n- Отношения\, основанные только на сексе? Есть ли что-то более важное?\n- Как найти сильного мужчину\, достойного вас?\n- Эффективно ли женщине побуждать мужа к женитьбе?\n- Как исполнить все свои желания через мужа и улучшить ваши отношения?\n- Как решить эту дилемму и вернуть любимого человека?\n- Очень откровенный разговор о синергии между мужчиной и женщиной - природной синергии для открытия успеха в партнерстве! \nВсе мероприятие продлится около 3 часов.\nЦена для мамы/мамы с одним ребенком - 35 евро.  (за более чем 1 ребенка взимается дополнительная плата в размере 10 евро\, дети в возрасте 6-14 лет).\nОплата банковским переводом. \nБольше мест на это мероприятие не осталось! Следите за нами\, чтобы узнавать о предстоящих событиях.
URL:https://taujenudvaras.lt/ru/event/seminaras-moterims-kaip-kalbeti-su-vyrais-kad-jie-isgirstu-pirties-proceduros-bei-veiklos-vaikams/
LOCATION:Усадьба Тауйенай\, Дваро г. 2\, Деревня Тауйенай\, Укмерге р. Сав.\, Таужену сен.\, LT-20352\, Lietuva
CATEGORIES:Семинары
ATTACH;FMTTYPE=image/jpeg:https://taujenudvaras.lt/wp-content/uploads/2023/02/Monart-150-scaled.jpg
ORGANIZER;CN="%D0%A3%D1%81%D0%B0%D0%B4%D1%8C%D0%B1%D0%B0 %D0%A2%D0%B0%D1%83%D0%B9%D0%B5%D0%BD%D0%B0%D0%B9":MAILTO:info@taujenudvaras.lt
END:VEVENT
BEGIN:VEVENT
DTSTART;TZID=Europe/Vilnius:20250321T190000
DTEND;TZID=Europe/Vilnius:20250321T190000
DTSTAMP:20260421T174923
CREATED:20250429T125756Z
LAST-MODIFIED:20250430T091115Z
UID:8038-1742583600-1742583600@taujenudvaras.lt
SUMMARY:Сандра и Викторас
DESCRIPTION:21 марта. Незабываемый вечер с дуэтом Сандры и Виктораса в усадьбе Тауйенай!  \nНасладись эксклюзивным концертом из двух частей\, в котором прозвучат лучшие песни Сандры и Виктора. Ты услышишь «Все из-за тебя"\, «Об этом"\, «Ты - небо"\, «Я живу только из-за тебя"\, «Одна часть"\, «Еще раз"\, «Я буду твоей" и многие другие.  \nНе упусти возможность повеселиться в поместье Тауйенай - самые красивые песни\, танцы и незабываемые эмоции ждут харизматичный дуэт! \nКонцерт состоится 21 марта 2025 года\, начало в 19:00.  \n>  Приобрести билеты
URL:https://taujenudvaras.lt/ru/event/sandra-i-viktor/
LOCATION:Усадьба Тауйенай\, Дваро г. 2\, Деревня Тауйенай\, Укмерге р. Сав.\, Таужену сен.\, LT-20352\, Lietuva
CATEGORIES:Концерты
ATTACH;FMTTYPE=image/jpeg:https://taujenudvaras.lt/wp-content/uploads/2025/02/td-sandra-ir-viktorijas.jpg
ORGANIZER;CN="%D0%A3%D1%81%D0%B0%D0%B4%D1%8C%D0%B1%D0%B0 %D0%A2%D0%B0%D1%83%D0%B9%D0%B5%D0%BD%D0%B0%D0%B9":MAILTO:info@taujenudvaras.lt
END:VEVENT
BEGIN:VEVENT
DTSTART;VALUE=DATE:20250329
DTEND;VALUE=DATE:20250330
DTSTAMP:20260421T174923
CREATED:20250429T125702Z
LAST-MODIFIED:20250429T125702Z
UID:8033-1743206400-1743292799@taujenudvaras.lt
SUMMARY:Национальный чемпионат Литвы по сгибанию рук 2025 года в усадьбе Тауйенай
DESCRIPTION:
URL:https://taujenudvaras.lt/ru/event/2025-nacionalnyj-chempionat-litvy-po-sgybaniju-ruk-2025-goda-v-usadbe-taujenaj/
LOCATION:Усадьба Тауйенай\, Дваро г. 2\, Деревня Тауйенай\, Укмерге р. Сав.\, Таужену сен.\, LT-20352\, Lietuva
CATEGORIES:Чемпионаты
ATTACH;FMTTYPE=image/jpeg:https://taujenudvaras.lt/wp-content/uploads/2025/01/td-ranku-lenkimo-cempionatas.jpg
ORGANIZER;CN="%D0%A3%D1%81%D0%B0%D0%B4%D1%8C%D0%B1%D0%B0 %D0%A2%D0%B0%D1%83%D0%B9%D0%B5%D0%BD%D0%B0%D0%B9":MAILTO:info@taujenudvaras.lt
END:VEVENT
END:VCALENDAR