BEGIN:VCALENDAR
VERSION:2.0
PRODID:-//Усадьба Тауенай - ECPv6.13.2.1//NONSGML v1.0//EN
CALSCALE:GREGORIAN
METHOD:PUBLISH
X-WR-CALNAME:Усадьба Тауенай
X-ORIGINAL-URL:https://taujenudvaras.lt/ru/
X-WR-CALDESC:Мероприятия для Усадьба Тауенай
REFRESH-INTERVAL;VALUE=DURATION:PT1H
X-Robots-Tag:noindex
X-PUBLISHED-TTL:PT1H
BEGIN:VTIMEZONE
TZID:Europe/Vilnius
BEGIN:DAYLIGHT
TZOFFSETFROM:+0200
TZOFFSETTO:+0300
TZNAME:EEST
DTSTART:20240331T010000
END:DAYLIGHT
BEGIN:STANDARD
TZOFFSETFROM:+0300
TZOFFSETTO:+0200
TZNAME:EET
DTSTART:20241027T010000
END:STANDARD
END:VTIMEZONE
BEGIN:VEVENT
DTSTART;VALUE=DATE:20240525
DTEND;VALUE=DATE:20240527
DTSTAMP:20260422T070408
CREATED:20250430T084607Z
LAST-MODIFIED:20250430T084607Z
UID:8378-1716595200-1716767999@taujenudvaras.lt
SUMMARY:Праздник для детей в усадьбе Тауйенай!
DESCRIPTION:25-26 мая Усадьба Тауйенай - детский праздник!\nПрограмма будет проходить с 14:00 до 19:00\, а парк будет открыт для посетителей с 12:00 до 20:00. \nМы подготовили для детей множество веселых развлечений: батуты\, тиро\, розыгрыш с призом в виде катания на лошади\, эстафеты\, игры на свежем воздухе\, театральные представления\, обучение разжиганию костра и пенное шоу\, а также гостей будут угощать сладкой ватой и попкорном! \nВсе мероприятия проводятся без дополнительной оплаты.\nМероприятие для детей и родителей. \nПрограмма мероприятия 25 числа:\n14:00 - Театрализованное представление «Девочка и каприз".\n14:30 - Обучение освещению огня\, практика\n15:30 - Пенное шоу\n16:00 - Сказка «Раз и два\, мы вместе".\n16:30 - Обучение пожарному освещению\, практика\n17:30 - Пенное шоу\n18:00 - Театрализованная сказка «Девочка и каприз"\n18:30 - Обучение освещению огня\n19:00 - Окончание программы\n20:00 - закрытие парка \nПрограмма мероприятия 26-го числа:\n14:00 - Театрализованное представление «Девочка и каприз".\n14:30 - Обучение освещению огня\, практика\n15:30 - Пенное шоу\n16:00 - Сказка «Раз и два\, мы вместе".\n16:30 - Обучение пожарному освещению\, практика\n17:30 - Пенное шоу\n18:00 - Театрализованная сказка «Девочка и каприз"\n18:30 - Обучение освещению огня\n19:00 - Окончание программы\n20:00 - закрытие парка \nСтоимость билетов:\nДети от 5 лет и старше и взрослые - €12;\nПенсионеры\, инвалиды и дети до 5 лет - €6;\nДети до 2 лет проходят бесплатно. \nВы можете купить билет в зале или онлайн. В стоимость входит посещение зверинца\, дворца и амбара.\nБилеты не подлежат обмену и возврату. \n>  Купить билет\n>  Мероприятие на Facebook
URL:https://taujenudvaras.lt/ru/event/svente-vaikams-taujenu-dvare/
LOCATION:Усадьба Тауйенай\, Дваро г. 2\, Деревня Тауйенай\, Укмерге р. Сав.\, Таужену сен.\, LT-20352\, Lietuva
CATEGORIES:Фестивали
ATTACH;FMTTYPE=image/jpeg:https://taujenudvaras.lt/wp-content/uploads/2024/05/pexels-rdne-8385932.jpg
ORGANIZER;CN="%D0%A3%D1%81%D0%B0%D0%B4%D1%8C%D0%B1%D0%B0 %D0%A2%D0%B0%D1%83%D0%B9%D0%B5%D0%BD%D0%B0%D0%B9":MAILTO:info@taujenudvaras.lt
END:VEVENT
END:VCALENDAR