BEGIN:VCALENDAR
VERSION:2.0
PRODID:-//Усадьба Тауенай - ECPv6.13.2.1//NONSGML v1.0//EN
CALSCALE:GREGORIAN
METHOD:PUBLISH
X-ORIGINAL-URL:https://taujenudvaras.lt/ru/
X-WR-CALDESC:Мероприятия для Усадьба Тауенай
REFRESH-INTERVAL;VALUE=DURATION:PT1H
X-Robots-Tag:noindex
X-PUBLISHED-TTL:PT1H
BEGIN:VTIMEZONE
TZID:Europe/Vilnius
BEGIN:DAYLIGHT
TZOFFSETFROM:+0200
TZOFFSETTO:+0300
TZNAME:EEST
DTSTART:20240331T010000
END:DAYLIGHT
BEGIN:STANDARD
TZOFFSETFROM:+0300
TZOFFSETTO:+0200
TZNAME:EET
DTSTART:20241027T010000
END:STANDARD
END:VTIMEZONE
BEGIN:VEVENT
DTSTART;VALUE=DATE:20240228
DTEND;VALUE=DATE:20240308
DTSTAMP:20260422T093029
CREATED:20250430T084250Z
LAST-MODIFIED:20250430T084328Z
UID:8368-1709078400-1709855999@taujenudvaras.lt
SUMMARY:Приглашаем вас посетить усадьбу Тауйенай!
DESCRIPTION:Усадебный парк Тауйенай\, менай эпохи Радвиласа\, дружелюбные обитатели зверинца и вкусная еда - все это вы найдете по прибытии. \nМы будем рады приветствовать вас в усадьбе:\nI-V / 10-17\nVI-VII / 10-18. \nЧасы работы:\nI-VII / 10 утра-8 вечера \nЧасы работы:\nVII-IV / 11 утра-8 вечера\nV-VI / 11 утра-10 вечера \nСтоимость билетов:\nПосещение парка 6 €\nПенсионеры и инвалиды\, школьники до 18 лет 3 €\nПосещение свободных залов усадьбы 3 € / чел.
URL:https://taujenudvaras.lt/ru/event/kvieciame-aplankyti-taujenu-dvara/
LOCATION:Усадьба Тауйенай\, Дваро г. 2\, Деревня Тауйенай\, Укмерге р. Сав.\, Таужену сен.\, LT-20352\, Lietuva
CATEGORIES:Развлечения
ATTACH;FMTTYPE=image/jpeg:https://taujenudvaras.lt/wp-content/uploads/2022/10/td-pa-03.jpg
ORGANIZER;CN="%D0%A3%D1%81%D0%B0%D0%B4%D1%8C%D0%B1%D0%B0 %D0%A2%D0%B0%D1%83%D0%B9%D0%B5%D0%BD%D0%B0%D0%B9":MAILTO:info@taujenudvaras.lt
END:VEVENT
END:VCALENDAR