BEGIN:VCALENDAR
VERSION:2.0
PRODID:-//Усадьба Тауенай - ECPv6.13.2.1//NONSGML v1.0//EN
CALSCALE:GREGORIAN
METHOD:PUBLISH
X-ORIGINAL-URL:https://taujenudvaras.lt/ru/
X-WR-CALDESC:Мероприятия для Усадьба Тауенай
REFRESH-INTERVAL;VALUE=DURATION:PT1H
X-Robots-Tag:noindex
X-PUBLISHED-TTL:PT1H
BEGIN:VTIMEZONE
TZID:Europe/Vilnius
BEGIN:DAYLIGHT
TZOFFSETFROM:+0200
TZOFFSETTO:+0300
TZNAME:EEST
DTSTART:20230326T010000
END:DAYLIGHT
BEGIN:STANDARD
TZOFFSETFROM:+0300
TZOFFSETTO:+0200
TZNAME:EET
DTSTART:20231029T010000
END:STANDARD
BEGIN:DAYLIGHT
TZOFFSETFROM:+0200
TZOFFSETTO:+0300
TZNAME:EEST
DTSTART:20240331T010000
END:DAYLIGHT
BEGIN:STANDARD
TZOFFSETFROM:+0300
TZOFFSETTO:+0200
TZNAME:EET
DTSTART:20241027T010000
END:STANDARD
END:VTIMEZONE
BEGIN:VEVENT
DTSTART;VALUE=DATE:20231231
DTEND;VALUE=DATE:20240102
DTSTAMP:20260422T120513
CREATED:20250430T083658Z
LAST-MODIFIED:20250430T083658Z
UID:8357-1703980800-1704153599@taujenudvaras.lt
SUMMARY:2024 Новогодняя вечеринка в усадьбе Тауйенай
DESCRIPTION:Празднично украшенная усадьба Тауйенай приглашает вас на незабываемую новогоднюю вечеринку!\nО настроении вашего вечера позаботится опытный ведущий Гедрюс Лешкявичюс\, в программу которого войдут современные хиты\, классика литовской и зарубежной эстрады и оригинальная музыка. \nГостей также ждет сюрприз - иллюзионист и фокусник Юриус Маяускас погрузит их в мир чудес. \nПришедших на праздник встретят хозяева усадьбы\, которые угостят их бокалом игристого вина\, а «Студия тарелок" предложит деликатесы для гостей вечера. В новогоднем меню есть все\, что придется вам по вкусу: эксклюзивные праздничные блюда\, приготовленные специально для вас\, закуски и\, конечно же\, десерты. Прощаясь с 2023 годом\, мы встретим Новый год фейерверком и мыльными пузырями. \nВнимание!  Приносить свои напитки строго запрещено. В зале будет работать бар\, где вы сможете их приобрести. \nДвери открыты: 18:00.\nВремя начала: 19:00\nОкончание мероприятия: 2 часа \nСтоимость мероприятия составляет €140. Дети и подростки от 3 до 18 лет - €90. \nВ стоимость билета входит программа ведущего и иллюзиониста\, приветственный и полуночный кубок\, горячий обед\, холодные закуски и десерт.\nОбязательно предварительное бронирование! Мы предложим вам заранее выбрать горячее блюдо. Меню можно найти здесь: MENU. \nБронирование билетов и проживания +370 618 25030. \nУсадьба Тауйенай также предлагает услуги по размещению\, так что вам не придется беспокоиться о том\, как добраться до дома после бурной ночи. Проживание не включено в стоимость билета. Цена на одного человека начинается от €55. \nБилеты на мероприятие обмену и возврату не подлежат. Лица\, купившие билеты\, могут передавать их другим лицам. \n>  Мероприятие на Facebook
URL:https://taujenudvaras.lt/ru/event/2024-naujuju-metu-sutikimas-taujenu-dvare/
LOCATION:Усадьба Тауйенай\, Дваро г. 2\, Деревня Тауйенай\, Укмерге р. Сав.\, Таужену сен.\, LT-20352\, Lietuva
CATEGORIES:Развлечения
ATTACH;FMTTYPE=image/jpeg:https://taujenudvaras.lt/wp-content/uploads/2023/11/pexels-rovenimagescom-949592-scaled.jpg
ORGANIZER;CN="%D0%A3%D1%81%D0%B0%D0%B4%D1%8C%D0%B1%D0%B0 %D0%A2%D0%B0%D1%83%D0%B9%D0%B5%D0%BD%D0%B0%D0%B9":MAILTO:info@taujenudvaras.lt
END:VEVENT
BEGIN:VEVENT
DTSTART;VALUE=DATE:20240119
DTEND;VALUE=DATE:20240228
DTSTAMP:20260422T120513
CREATED:20250430T084000Z
LAST-MODIFIED:20250430T084000Z
UID:8364-1705622400-1709078399@taujenudvaras.lt
SUMMARY:Фестиваль ледяных скульптур "Ледяные сказки"
DESCRIPTION:Фестиваль ледяных скульптур «Ледяные сказки" возвращается в усадьбу Тауйенай!\nПосетителей ждут с 19 января по 29 февраля\, I-IV с 12 до 18 часов\, V-VII с 12 до 21 часа. \nВ этом году в Парке ледяных скульптур будет представлено более 33 000 кг прозрачных и необычных цветных ледяных скульптур\, которые подарят посетителям настоящую зимнюю сказку. Ледяные скульптуры будут выставлены и в усадебном парке Тауйенай\, но главная выставка пройдет в павильоне\, превращенном в лес. Выставка будет прекрасно освещена и изолирована от внешних воздействий\, чтобы вы могли наслаждаться ледяными скульптурами как можно дольше. Замечательные творцы наполняют культуру смыслом с помощью искусства. \nГостей фестиваля приглашают посетить четыре пространства:\n- цветной лед;\n- мистика;\n- традиционные сказки;\n- ледяная королева. \nТеплые вафли\, пончики\, копченая рыба и другие деликатесы для голодных. Здесь же будет работать кафе «Lėkštės studija". Однако попробовать лесные продукты вы не сможете - они будут заморожены. \nСтоимость билетов:\nI-IV 6 €/чел\,\nпожилые люди и инвалиды 3 €/чел. \nV-VII 10 € / чел\,\nпожилые люди и инвалиды 3 € / чел. \nДети до 4 лет проходят бесплатно во все дни. \nДля групп из 15 и более человек. 10%. скидка. \nБилеты можно приобрести только на месте. В стоимость билета входит прогулка по усадьбе Тауйенай\, парку и зверинцу. \n>  Мероприятие на Facebook
URL:https://taujenudvaras.lt/ru/event/ledo-skulpturu-festivalis-ledo-pasakos/
LOCATION:Усадьба Тауйенай\, Дваро г. 2\, Деревня Тауйенай\, Укмерге р. Сав.\, Таужену сен.\, LT-20352\, Lietuva
CATEGORIES:Фестивали
ATTACH;FMTTYPE=image/png:https://taujenudvaras.lt/wp-content/uploads/2023/12/TD-LEDO-PASAKA2-copy.png
ORGANIZER;CN="%D0%A3%D1%81%D0%B0%D0%B4%D1%8C%D0%B1%D0%B0 %D0%A2%D0%B0%D1%83%D0%B9%D0%B5%D0%BD%D0%B0%D0%B9":MAILTO:info@taujenudvaras.lt
END:VEVENT
END:VCALENDAR