BEGIN:VCALENDAR
VERSION:2.0
PRODID:-//Усадьба Тауенай - ECPv6.13.2.1//NONSGML v1.0//EN
CALSCALE:GREGORIAN
METHOD:PUBLISH
X-ORIGINAL-URL:https://taujenudvaras.lt/ru/
X-WR-CALDESC:Мероприятия для Усадьба Тауенай
REFRESH-INTERVAL;VALUE=DURATION:PT1H
X-Robots-Tag:noindex
X-PUBLISHED-TTL:PT1H
BEGIN:VTIMEZONE
TZID:Europe/Vilnius
BEGIN:DAYLIGHT
TZOFFSETFROM:+0200
TZOFFSETTO:+0300
TZNAME:EEST
DTSTART:20230326T010000
END:DAYLIGHT
BEGIN:STANDARD
TZOFFSETFROM:+0300
TZOFFSETTO:+0200
TZNAME:EET
DTSTART:20231029T010000
END:STANDARD
END:VTIMEZONE
BEGIN:VEVENT
DTSTART;VALUE=DATE:20231012
DTEND;VALUE=DATE:20231016
DTSTAMP:20260422T160319
CREATED:20250430T081901Z
LAST-MODIFIED:20250430T081901Z
UID:8316-1697068800-1697414399@taujenudvaras.lt
SUMMARY:Конференция для женщин-предпринимателей в усадьбе Тауйенай
DESCRIPTION:12-15 октября в усадьбе Тауйенай Конференция @Brandwomas\nЭто конференция по самореализации и личному брендингу\, инициированная социально ответственной организацией с целью содействия росту женского одиночного и малого бизнеса на рынке. Конференция будет проходить в течение 4 дней. Участие в конкурсе предоставляется по запросу. \nПрограмма конференции:\n12 октября - Основы бизнеса: обсуждение того\, как построить сильную бизнес-модель и видение\n13 октября - Визуальная идентичность для бизнеса: помощь в создании мощного и узнаваемого бренда\n14 октября - Деловые коммуникации: эффективные способы общения с клиентами\n15 октября - Продажи в бизнесе: уроки по максимизации продаж и прибыли \nК участию приглашаются соло- и малый бизнес\, MLM\, все разработчики услуг и продуктов\, эксперты\, консультанты\, фасилитаторы саморазвития\, социальные предприниматели. \nСтоимость билетов - 119 евро. \nВ выходные дни в усадьбе Тауйенай вы также сможете увидеть представления\, специально созданные к Хэллоуину. Маленьких посетителей ждут автомобильная карусель\, батут\, поезд и\, конечно же\, всех желающих пригласят в гости к жителям Жверинелиса! Все это включено в стоимость билета. \n>  Купить билет\n>  Мероприятие на Facebook
URL:https://taujenudvaras.lt/ru/event/konferencija-verslioms-moterims-taujenu-dvare/
LOCATION:Усадьба Тауйенай\, Дваро г. 2\, Деревня Тауйенай\, Укмерге р. Сав.\, Таужену сен.\, LT-20352\, Lietuva
CATEGORIES:Конференции
ATTACH;FMTTYPE=image/png:https://taujenudvaras.lt/wp-content/uploads/2023/09/pagrindine.cover-1.png
ORGANIZER;CN="%D0%A3%D1%81%D0%B0%D0%B4%D1%8C%D0%B1%D0%B0 %D0%A2%D0%B0%D1%83%D0%B9%D0%B5%D0%BD%D0%B0%D0%B9":MAILTO:info@taujenudvaras.lt
END:VEVENT
BEGIN:VEVENT
DTSTART;VALUE=DATE:20231013
DTEND;VALUE=DATE:20231101
DTSTAMP:20260422T160319
CREATED:20250430T082219Z
LAST-MODIFIED:20250430T082419Z
UID:8321-1697155200-1698796799@taujenudvaras.lt
SUMMARY:Создание парфюма "Аромат\, созданный для исполнения желаний".
DESCRIPTION:В октябре основательница MonArt\, терапевт Моника\, приглашает вас принять участие в необычной индивидуальной парфюмерной терапии\, где будут пробуждены все ваши чувства: вкус\, обоняние\, слух\, зрение и осязание. \nВо время мероприятия мы создадим индивидуальную смесь ароматов и\, используя магию Хэллоуина\, наколдуем ее\, чтобы исполнить добрые желания. Участники также смогут насладиться магическим ритуалом с пылающей янтарной пылью. \nОпыт\, анализ и исследования Моники показывают\, что волшебство не занимает много времени\, чтобы стать реальностью\, если человек планирует осуществление своих желаний\, составляет схему визуализации и берет на себя обязательство следовать плану. Улучшив концентрацию\, мы можем добиться результатов\, которые еще недавно казались чудом. \nМероприятие состоится в сумерках\, в мистически оформленном поместье Тауйенай Менор\, а в путешествии по ароматам вас будет сопровождать Моника\, превратившаяся в колдунью. \nПринять участие можно в удобное для вас время:\n13 октября в 16:00\n14 октября в 16:00\n15 октября в 16:00\n21 октября в 16:00\n22 октября в 16:00\n28 октября в 16:00\n29 октября в 16:00\n31 октября.        4 вечера. \nПродолжительность 1\,5 часа\nМероприятие предназначено для девочек от 7 лет\, женщин\, пожилых людей. \nЦена - 40 eur / человек\nВ стоимость также входит билет на фестиваль Хэллоуина в усадьбе Тауйенай (неограниченное время\, скидка 10 eur для тех\, кто покупает билет заранее). \nРегистрация по телефону +370 601 66780. Количество участников ограничено.
URL:https://taujenudvaras.lt/ru/event/kvepalu-kuryba-kvapas-uzkalbetas-noru-issipildymui/
LOCATION:Усадьба Тауйенай\, Дваро г. 2\, Деревня Тауйенай\, Укмерге р. Сав.\, Таужену сен.\, LT-20352\, Lietuva
CATEGORIES:Развлечения
ATTACH;FMTTYPE=image/jpeg:https://taujenudvaras.lt/wp-content/uploads/2023/09/DSC_4157-scaled.jpg
ORGANIZER;CN="%D0%A3%D1%81%D0%B0%D0%B4%D1%8C%D0%B1%D0%B0 %D0%A2%D0%B0%D1%83%D0%B9%D0%B5%D0%BD%D0%B0%D0%B9":MAILTO:info@taujenudvaras.lt
END:VEVENT
BEGIN:VEVENT
DTSTART;VALUE=DATE:20231013
DTEND;VALUE=DATE:20231106
DTSTAMP:20260422T160319
CREATED:20250430T083008Z
LAST-MODIFIED:20250430T083008Z
UID:8336-1697155200-1699228799@taujenudvaras.lt
SUMMARY:2023 m. Хэллоуин в усадьбе Тауйенай
DESCRIPTION:С 13 октября. до 5 ноября Самая страшная ночь в году возвращается в поместье Тауйенай! \nМы обещаем\, что этот год будет страшным! В 3 раза больше чучел и аниматоров\, в 3 раза больше тыкв\, в 2 раза больше места в комнатах страха\, а также неудобная смелая тропа длиной ~ 300 метров. \nТолько у нас аниматоры будут работать каждый день недели\, так что вы сможете насладиться или испугаться Хэллоуина и в будние дни. В день открытия гостей поразит захватывающее огненное шоу от виртуозов фаер-шоу. Каждый день посетителей будут встречать пугающие декорации\, неожиданные выставки\, паутина\, комнаты ужасов\, тропа ужасов\, лабиринт\, выставка тыкв и множество других сюрпризов. \nМаленьких посетителей ждут автомобильная карусель\, батут\, поезд и\, конечно же\, всех желающих пригласят в гости к жителям Жверинелиса! Все это включено в стоимость билета. \nТакже будет организована ярмарка\, питание от Lėkštės Studija и фургон с едой. \nМы будем рады приветствовать вас в будние дни с 17:00 до 21:00\, а по выходным парк открыт с 14:00 до 21:00.\nПожарные несут службу с 17:00 до 21:00 каждый день. \nНе волнуйтесь! Все стоят в очереди в комнаты ужасов до 21:00. будут впущены и напуганы! \nСтоимость билетов варьируется от €6 до €14. В него входит посещение усадьбы и парка Тауйенай со всеми развлечениями.\nСкидка 10% для групп при предварительном бронировании. \n* В случае плохих погодных условий: дождь и ветер более 15 м/с\, амбар\, ад\, аттракционы и зверинец будут открыты.\nСлед ужаса не сработает. \nАдрес: улица Дваро\, 2\, деревня Тауйенай\, Укмергеский район\, Литва. \n>  Билеты\n>  Мероприятие на Facebook
URL:https://taujenudvaras.lt/ru/event/2023-m-helovynas-taujenu-dvare/
LOCATION:Усадьба Тауйенай\, Дваро г. 2\, Деревня Тауйенай\, Укмерге р. Сав.\, Таужену сен.\, LT-20352\, Lietuva
CATEGORIES:Фестивали
ATTACH;FMTTYPE=image/jpeg:https://taujenudvaras.lt/wp-content/uploads/2023/08/311573115_784067766210396_5576953331771351623_n.jpg
ORGANIZER;CN="%D0%A3%D1%81%D0%B0%D0%B4%D1%8C%D0%B1%D0%B0 %D0%A2%D0%B0%D1%83%D0%B9%D0%B5%D0%BD%D0%B0%D0%B9":MAILTO:info@taujenudvaras.lt
END:VEVENT
BEGIN:VEVENT
DTSTART;VALUE=DATE:20231021
DTEND;VALUE=DATE:20231022
DTSTAMP:20260422T160319
CREATED:20250430T082729Z
LAST-MODIFIED:20250430T082729Z
UID:8331-1697846400-1697932799@taujenudvaras.lt
SUMMARY:Музыкальное путешествие Казимераса Якутиса Белый волк
DESCRIPTION:Я\, Казимерас Якутис\, впервые вышел на сцену со своим репертуаром оригинальных песен в 2005 году. И этой осенью я приглашаю вас\, дорогие любители песенной поэзии\, в музыкальное путешествие по Литве. Я не знаю\, ожидаете ли вы чего-то нового. Вы ждете? \nЯ много раз играл для вас сам\, играл с группой… В этом году - ни то\, ни другое. Ни в одиночку\, ни с группой. Может быть\, больше с группой\, но акустической: без барабанов\, без воя электрогитары и… на небольших площадках. Мы сможем вести более интимные беседы\, петь\, говорить. \nПока что я создаю песни из беспокойства\, из «безделья"\, как я пытаюсь шутить сам с собой. И на этот раз я писал песни с целью\, с амбициями. Мы хотим защитить Дерево\, Птицу\, Зверя. Я хочу остановить руку охотника. Кроме всего прочего\, в моих лесах и лугах запрещена охота\, а цапли в моих прудах питаются выращенными там карпом и карасем. Так родилась недавно записанная песня «Baltas vilkas «: https://open.spotify.com/album/4x2w6huAEmM6wzS2mKSRRA?si=QhYMAFwnSQaLr-4POTNC8Q. \nВ музыкальном путешествии этой осени прозвучат не только новые\, но и старые песни\, любимые и спетые вами\, дорогие друзья\, посвященные любимой Аукштайтии\, женщинам\, течению времени… \n«С той ночи": https://www.youtube.com/watch?v=WhYwBRm7O-M\n«Голая осень": https://open.spotify.com/track/2CMBdLFdhwArcbJIk9ptrY\n«Не уходи": https://www.youtube.com/watch?v=eYp6xS4GCrQ \nK. Якутис опубликовал 8 CD/DVD и 2 книги. \nСпонсор мероприятия - https://www.lonas.lt/
URL:https://taujenudvaras.lt/ru/event/kazimiero-jakucio-muzikine-kelione-baltas-vilkas/
LOCATION:Усадьба Тауйенай\, Дваро г. 2\, Деревня Тауйенай\, Укмерге р. Сав.\, Таужену сен.\, LT-20352\, Lietuva
CATEGORIES:Концерты
ATTACH;FMTTYPE=image/png:https://taujenudvaras.lt/wp-content/uploads/2023/09/KJ_Tiketa_550x800.png
ORGANIZER;CN="%D0%A3%D1%81%D0%B0%D0%B4%D1%8C%D0%B1%D0%B0 %D0%A2%D0%B0%D1%83%D0%B9%D0%B5%D0%BD%D0%B0%D0%B9":MAILTO:info@taujenudvaras.lt
END:VEVENT
END:VCALENDAR