BEGIN:VCALENDAR
VERSION:2.0
PRODID:-//Усадьба Тауенай - ECPv6.13.2.1//NONSGML v1.0//EN
CALSCALE:GREGORIAN
METHOD:PUBLISH
X-WR-CALNAME:Усадьба Тауенай
X-ORIGINAL-URL:https://taujenudvaras.lt/ru/
X-WR-CALDESC:Мероприятия для Усадьба Тауенай
REFRESH-INTERVAL;VALUE=DURATION:PT1H
X-Robots-Tag:noindex
X-PUBLISHED-TTL:PT1H
BEGIN:VTIMEZONE
TZID:Europe/Vilnius
BEGIN:DAYLIGHT
TZOFFSETFROM:+0200
TZOFFSETTO:+0300
TZNAME:EEST
DTSTART:20230326T010000
END:DAYLIGHT
BEGIN:STANDARD
TZOFFSETFROM:+0300
TZOFFSETTO:+0200
TZNAME:EET
DTSTART:20231029T010000
END:STANDARD
END:VTIMEZONE
BEGIN:VEVENT
DTSTART;VALUE=DATE:20230910
DTEND;VALUE=DATE:20230911
DTSTAMP:20260422T172349
CREATED:20250430T081334Z
LAST-MODIFIED:20250430T081334Z
UID:8307-1694304000-1694390399@taujenudvaras.lt
SUMMARY:Терапевтическое мероприятие для женщин "Аромат\, творящий чудеса"
DESCRIPTION:10 сентября в 13:00 Мероприятие\, которое всегда вызывало ваш интерес\, - создание индивидуальных духов - возвращается в усадьбу Тауенай.\nНа этот раз терапевтическое мероприятие называется «Аромат\, творящий чудеса"\, ведь в этом и заключается истинная сила парфюма: вернуть вас в детство\, в гавань личной безопасности\, придать вам уверенности и вдохновить других. \nКак говорит психотерапевт Моника\, запах приобретает форму\, когда мы отождествляем его с воспоминаниями - когда мы чувствуем запах\, он ассоциируется у нас с человеком\, событием\, местом\, чувством\, и эти ассоциации вызывают различные ощущения. Узнав\, какие ароматы вызывают у нас положительные эмоции\, мы можем использовать их для самооздоровления или раскрытия своих индивидуальных качеств. \nВ ходе мероприятия участники откроют для себя любимые ароматы эфирных масел\, узнают об их свойствах\, опробуют смеси и создадут свой собственный\, уникальный аромат.\nВ стоимость билета также входит прогулка по усадебному парку Тауйенай и посещение зверинца. \nПродолжительность мероприятия - 1\,5 часа Цена - 40 евро/чел. \n>  Регистрация
URL:https://taujenudvaras.lt/ru/event/terapinis-renginys-moterims-kvapas-kuriantis-stebuklus/
LOCATION:Усадьба Тауйенай\, Дваро г. 2\, Деревня Тауйенай\, Укмерге р. Сав.\, Таужену сен.\, LT-20352\, Lietuva
CATEGORIES:Развлечения
ATTACH;FMTTYPE=image/jpeg:https://taujenudvaras.lt/wp-content/uploads/2023/08/Monart-47-1-scaled.jpg
ORGANIZER;CN="%D0%A3%D1%81%D0%B0%D0%B4%D1%8C%D0%B1%D0%B0 %D0%A2%D0%B0%D1%83%D0%B9%D0%B5%D0%BD%D0%B0%D0%B9":MAILTO:info@taujenudvaras.lt
END:VEVENT
END:VCALENDAR