BEGIN:VCALENDAR
VERSION:2.0
PRODID:-//Усадьба Тауенай - ECPv6.13.2.1//NONSGML v1.0//EN
CALSCALE:GREGORIAN
METHOD:PUBLISH
X-WR-CALNAME:Усадьба Тауенай
X-ORIGINAL-URL:https://taujenudvaras.lt/ru/
X-WR-CALDESC:Мероприятия для Усадьба Тауенай
REFRESH-INTERVAL;VALUE=DURATION:PT1H
X-Robots-Tag:noindex
X-PUBLISHED-TTL:PT1H
BEGIN:VTIMEZONE
TZID:Europe/Vilnius
BEGIN:DAYLIGHT
TZOFFSETFROM:+0200
TZOFFSETTO:+0300
TZNAME:EEST
DTSTART:20230326T010000
END:DAYLIGHT
BEGIN:STANDARD
TZOFFSETFROM:+0300
TZOFFSETTO:+0200
TZNAME:EET
DTSTART:20231029T010000
END:STANDARD
END:VTIMEZONE
BEGIN:VEVENT
DTSTART;VALUE=DATE:20230629
DTEND;VALUE=DATE:20230731
DTSTAMP:20260422T200703
CREATED:20250430T080930Z
LAST-MODIFIED:20250430T080930Z
UID:8301-1687996800-1690761599@taujenudvaras.lt
SUMMARY:Выставка "Магия шелка" художницы Эстелы Жукаускене
DESCRIPTION:Усадьба Тауйенай приглашает посетителей на выставку художника Эстелоса Жукаускене «Магия шелка"\, которая будет проходить в течение всего июля. \n\n\nВыставка состоит из картин на шелке разных размеров (около 90×90 см). Они варьируются от мандал и деревьев жизни до картин с национальными мотивами. \n\n\nОб авторе: Эстела Жукаускене - художница из Каунаса\, Каунасский район. Учитель технологии в гимназии «Домейкава". Роспись по шелку - хобби Эстеллы\, которым она занимается уже более 15 лет. \n\n\nВыставка открыта в часы работы усадьбы Тауйенай и является бесплатной. Посетители должны заплатить только обычный сбор в размере € 3 с человека.
URL:https://taujenudvaras.lt/ru/event/menininkes-estelos-zukauskienes-paroda-silko-magija/
LOCATION:Усадьба Тауйенай\, Дваро г. 2\, Деревня Тауйенай\, Укмерге р. Сав.\, Таужену сен.\, LT-20352\, Lietuva
CATEGORIES:Выставки
ATTACH;FMTTYPE=image/png:https://taujenudvaras.lt/wp-content/uploads/2023/07/20230627_135547.png
ORGANIZER;CN="%D0%A3%D1%81%D0%B0%D0%B4%D1%8C%D0%B1%D0%B0 %D0%A2%D0%B0%D1%83%D0%B9%D0%B5%D0%BD%D0%B0%D0%B9":MAILTO:info@taujenudvaras.lt
END:VEVENT
BEGIN:VEVENT
DTSTART;TZID=Europe/Vilnius:20230715T120000
DTEND;TZID=Europe/Vilnius:20230715T180000
DTSTAMP:20260422T200703
CREATED:20250430T080051Z
LAST-MODIFIED:20250430T080202Z
UID:8287-1689422400-1689444000@taujenudvaras.lt
SUMMARY:Терапевтическое мероприятие для матерей и дочерей "Искусство рисовать жизнь"
DESCRIPTION:Если вы хотите с пользой провести летние выходные\, 15 июля 12 вечера. «МонАрт" приглашает вас принять участие в терапевтическом мероприятии «Искусство рисовать жизнь". \nЭто мероприятие для девушек\, молодых женщин и женщин всех возрастов\, где участники вместе с психотерапевтом Моникой создадут индивидуальные духи\, нарисуют коллаж души и попробуют терапию абстрактной живописи. Эти занятия помогут расслабиться\, лучше узнать себя и открыть радость творчества. \nТакже здесь проводятся процедуры в сауне с использованием натуральной косметики для отшелушивания и увлажнения кожи. После этого участников ждет травяной чай и интересные беседы. \nПредложение включает:\n- индивидуальное создание духов;\n- создание коллажа души - текстурной композиции на листе бумаги\, созданной с помощью осознания своего текущего состояния;\n- процедуры в сауне с использованием натуральной косметики для отшелушивания и увлажнения кожи и травяного чая;\n- посещение усадебного парка Тауйенай и зверинца. \nПродолжительность мероприятия: 6 часов.\nЦена: 120 eur / чел. \nКоличество мест ограничено\, требуется регистрация! \nЕсли у вас возникнут вопросы\, обращайтесь по телефону +370 601 66780. \n>  Регистрация
URL:https://taujenudvaras.lt/ru/event/terapinis-renginys-mamoms-ir-dukroms-menas-tapyti-gyvenima/
LOCATION:Усадьба Тауйенай\, Дваро г. 2\, Деревня Тауйенай\, Укмерге р. Сав.\, Таужену сен.\, LT-20352\, Lietuva
CATEGORIES:Развлечения
ATTACH;FMTTYPE=image/jpeg:https://taujenudvaras.lt/wp-content/uploads/2023/07/Monart-123-scaled.jpg
ORGANIZER;CN="%D0%A3%D1%81%D0%B0%D0%B4%D1%8C%D0%B1%D0%B0 %D0%A2%D0%B0%D1%83%D0%B9%D0%B5%D0%BD%D0%B0%D0%B9":MAILTO:info@taujenudvaras.lt
END:VEVENT
END:VCALENDAR