BEGIN:VCALENDAR
VERSION:2.0
PRODID:-//Усадьба Тауенай - ECPv6.13.2.1//NONSGML v1.0//EN
CALSCALE:GREGORIAN
METHOD:PUBLISH
X-WR-CALNAME:Усадьба Тауенай
X-ORIGINAL-URL:https://taujenudvaras.lt/ru/
X-WR-CALDESC:Мероприятия для Усадьба Тауенай
REFRESH-INTERVAL;VALUE=DURATION:PT1H
X-Robots-Tag:noindex
X-PUBLISHED-TTL:PT1H
BEGIN:VTIMEZONE
TZID:Europe/Vilnius
BEGIN:DAYLIGHT
TZOFFSETFROM:+0200
TZOFFSETTO:+0300
TZNAME:EEST
DTSTART:20230326T010000
END:DAYLIGHT
BEGIN:STANDARD
TZOFFSETFROM:+0300
TZOFFSETTO:+0200
TZNAME:EET
DTSTART:20231029T010000
END:STANDARD
END:VTIMEZONE
BEGIN:VEVENT
DTSTART;TZID=Europe/Vilnius:20230401T130000
DTEND;TZID=Europe/Vilnius:20230401T170000
DTSTAMP:20260423T001804
CREATED:20250430T073755Z
LAST-MODIFIED:20250430T073755Z
UID:8254-1680354000-1680368400@taujenudvaras.lt
SUMMARY:Терапевтическое мероприятие для мам и детей "Мир и творчество"
DESCRIPTION:Начните апрель расслабленно - в первый день месяца в 13:00 вы можете лечь спать. «MonArt" приглашает матерей в усадьбу Тауйенай на процедуры в сауне с использованием омолаживающей косметики\, ванночки для ног и стимулирующие дорожки для ног. \nПока вы будете наслаждаться\, ваши дети вместе с терапевтом Моникой создадут свои собственные духи и сделают пробку\, чтобы рассказать историю их создания - они не только научатся творчеству\, но и искусству риторики. \nЦена для мамы с одним ребенком - €35 (за других детей взимается дополнительная плата в размере €10 за ребенка).\nВ стоимость входит посещение зверинца. \n>  Приобрести билеты
URL:https://taujenudvaras.lt/ru/event/terapinis-renginys-mamoms-ir-vaikams-ramybe-ir-kuryba/
LOCATION:Усадьба Тауйенай\, Дваро г. 2\, Деревня Тауйенай\, Укмерге р. Сав.\, Таужену сен.\, LT-20352\, Lietuva
CATEGORIES:Развлечения
ATTACH;FMTTYPE=image/jpeg:https://taujenudvaras.lt/wp-content/uploads/2023/03/Monart-143-scaled.jpg
ORGANIZER;CN="%D0%A3%D1%81%D0%B0%D0%B4%D1%8C%D0%B1%D0%B0 %D0%A2%D0%B0%D1%83%D0%B9%D0%B5%D0%BD%D0%B0%D0%B9":MAILTO:info@taujenudvaras.lt
END:VEVENT
BEGIN:VEVENT
DTSTART;TZID=Europe/Vilnius:20230415T130000
DTEND;TZID=Europe/Vilnius:20230415T170000
DTSTAMP:20260423T001804
CREATED:20250430T073347Z
LAST-MODIFIED:20250430T073347Z
UID:8258-1681563600-1681578000@taujenudvaras.lt
SUMMARY:Терапевтическое мероприятие для женщин "Теплые воспоминания": создание парфюма и банные процедуры
DESCRIPTION:15 апреля 13:00. «Моника\, основательница компании MonArt\, приглашает вас в усадьбу Тауйенай на терапевтическое мероприятие для женщин «Теплые воспоминания". \nПрограмма мероприятия состоит из двух частей: создание индивидуальных ароматов и банные процедуры.\n13:00  создание индивидуальных ароматов;\n14.30.  закуски;\n15:00  Процедуры в сауне\, а затем беседы у камина;\n16:00  посещение зверинца. \nЦена на человека - EUR 35 (включая парк и зверинец\, цена вне мероприятия - EUR 50).\nВозможна оплата наличными или банковским переводом. \nЕсли у вас возникнут вопросы\, обращайтесь по телефону +370 601 66780. \n>  Приобрести билеты
URL:https://taujenudvaras.lt/ru/event/terapinis-renginys-moterims-silti-prisiminimai-kvepalu-kuryba-bei-pirties-proceduros/
LOCATION:Усадьба Тауйенай\, Дваро г. 2\, Деревня Тауйенай\, Укмерге р. Сав.\, Таужену сен.\, LT-20352\, Lietuva
CATEGORIES:Развлечения
ATTACH;FMTTYPE=image/jpeg:https://taujenudvaras.lt/wp-content/uploads/2023/03/Monart-42-1-scaled.jpg
ORGANIZER;CN="%D0%A3%D1%81%D0%B0%D0%B4%D1%8C%D0%B1%D0%B0 %D0%A2%D0%B0%D1%83%D0%B9%D0%B5%D0%BD%D0%B0%D0%B9":MAILTO:info@taujenudvaras.lt
END:VEVENT
BEGIN:VEVENT
DTSTART;TZID=Europe/Vilnius:20230416T130000
DTEND;TZID=Europe/Vilnius:20230416T170000
DTSTAMP:20260423T001804
CREATED:20250430T073535Z
LAST-MODIFIED:20250430T073535Z
UID:8252-1681650000-1681664400@taujenudvaras.lt
SUMMARY:Терапевтическое мероприятие для женщин "Будь тем\, что ты чувствуешь": душевный коллаж и банные процедуры
DESCRIPTION:16 апреля\, 13:00. «Основательница MonArt\, терапевт Моника\, приглашает вас принять участие в терапевтическом мероприятии «Ты - то\, что ты чувствуешь" в усадьбе Тауйенай\, где вы сможете создать коллаж своей души и насладиться процедурами в сауне. \nКоллаж души - это тесселированная композиция\, созданная на основе вашего осознания текущего состояния - вам решать\, создавать ли композицию из мыслей\, которые вас беспокоят\, или\, напротив\, в соответствии с позитивными изменениями\, которые вы хотите увидеть. Расслабленные и готовые взять свою жизнь в свои руки\, женщины идут на сауну\, чтобы почувствовать себя отдохнувшими и набравшимися сил! \nЦена на человека - 35 евро (включая парк и зверинец).\nВозможна оплата наличными или банковским переводом. \n>  Приобрести билеты
URL:https://taujenudvaras.lt/ru/event/terapinis-renginys-moterims-esi-tai-ka-jauti-sielos-koliazas-bei-pirties-proceduros/
LOCATION:Усадьба Тауйенай\, Дваро г. 2\, Деревня Тауйенай\, Укмерге р. Сав.\, Таужену сен.\, LT-20352\, Lietuva
CATEGORIES:Развлечения
ATTACH;FMTTYPE=image/jpeg:https://taujenudvaras.lt/wp-content/uploads/2023/03/Monart-137-scaled.jpg
ORGANIZER;CN="%D0%A3%D1%81%D0%B0%D0%B4%D1%8C%D0%B1%D0%B0 %D0%A2%D0%B0%D1%83%D0%B9%D0%B5%D0%BD%D0%B0%D0%B9":MAILTO:info@taujenudvaras.lt
END:VEVENT
END:VCALENDAR