BEGIN:VCALENDAR
VERSION:2.0
PRODID:-//Усадьба Тауенай - ECPv6.13.2.1//NONSGML v1.0//EN
CALSCALE:GREGORIAN
METHOD:PUBLISH
X-ORIGINAL-URL:https://taujenudvaras.lt/ru/
X-WR-CALDESC:Мероприятия для Усадьба Тауенай
REFRESH-INTERVAL;VALUE=DURATION:PT1H
X-Robots-Tag:noindex
X-PUBLISHED-TTL:PT1H
BEGIN:VTIMEZONE
TZID:Europe/Vilnius
BEGIN:DAYLIGHT
TZOFFSETFROM:+0200
TZOFFSETTO:+0300
TZNAME:EEST
DTSTART:20230326T010000
END:DAYLIGHT
BEGIN:STANDARD
TZOFFSETFROM:+0300
TZOFFSETTO:+0200
TZNAME:EET
DTSTART:20231029T010000
END:STANDARD
END:VTIMEZONE
BEGIN:VEVENT
DTSTART;VALUE=DATE:20230203
DTEND;VALUE=DATE:20230218
DTSTAMP:20260423T031305
CREATED:20250430T072650Z
LAST-MODIFIED:20250430T072823Z
UID:8226-1675382400-1676678399@taujenudvaras.lt
SUMMARY:Международный фестиваль ледовых скульптур "Королевство снежных людей"
DESCRIPTION:Вы наверняка слышали о мистическом снеговике\, но знаете ли вы о королевстве снеговиков\, где можно увидеть не только снежных лордов\, но и воинов\, фермеров\, детей и многих других? \n3 февраля с 17:00 вы сможете увидеть все своими глазами на Фестивале ледяных скульптур «Королевство снежных людей" в усадьбе Тауйенай.\nБолее 30 ледяных скульптур\, а 4 февраля в усадьбе Тауйенай пройдет Фестиваль ледяных скульптур. - и возможность увидеть процесс создания великих!\nВход для посетителей: I-VII: 10 утра - 8 вечера. \nВнимание! Время работы может меняться в зависимости от погодных условий\, поэтому следите за обновлениями на нашей странице в Facebook. \nСтоимость билетов: от 3 Eur. \nВзрослые\, покупающие онлайн:\nV-VII - €10;\nI-IV - €6. \nВзрослые на месте:\nV-VII - €13;\nI-IV - €10. \nДети\, инвалиды и пожилые люди:\nV-VII - €5;\nI-IV - €3. \nДети до двух лет могут участвовать бесплатно. \nСкидки для групп от 10 человек\, время посещения согласовывается индивидуально по телефону. +370 640 93 535. \n>  Ссылка на билет\n>  Мероприятие на Facebook
URL:https://taujenudvaras.lt/ru/event/tarptautinis-ledo-skulpturu-festivalis-sniego-zmoniu-karalyste/
LOCATION:Усадьба Тауйенай\, Дваро г. 2\, Деревня Тауйенай\, Укмерге р. Сав.\, Таужену сен.\, LT-20352\, Lietuva
CATEGORIES:Фестивали
ATTACH;FMTTYPE=image/png:https://taujenudvaras.lt/wp-content/uploads/2023/01/TD-LEDAS-FB_EVENT-Cover-01-–-2-1.png
ORGANIZER;CN="%D0%A3%D1%81%D0%B0%D0%B4%D1%8C%D0%B1%D0%B0 %D0%A2%D0%B0%D1%83%D0%B9%D0%B5%D0%BD%D0%B0%D0%B9":MAILTO:info@taujenudvaras.lt
END:VEVENT
END:VCALENDAR