BEGIN:VCALENDAR
VERSION:2.0
PRODID:-//Усадьба Тауенай - ECPv6.13.2.1//NONSGML v1.0//EN
CALSCALE:GREGORIAN
METHOD:PUBLISH
X-WR-CALNAME:Усадьба Тауенай
X-ORIGINAL-URL:https://taujenudvaras.lt/ru/
X-WR-CALDESC:Мероприятия для Усадьба Тауенай
REFRESH-INTERVAL;VALUE=DURATION:PT1H
X-Robots-Tag:noindex
X-PUBLISHED-TTL:PT1H
BEGIN:VTIMEZONE
TZID:Europe/Vilnius
BEGIN:DAYLIGHT
TZOFFSETFROM:+0200
TZOFFSETTO:+0300
TZNAME:EEST
DTSTART:20220327T010000
END:DAYLIGHT
BEGIN:STANDARD
TZOFFSETFROM:+0300
TZOFFSETTO:+0200
TZNAME:EET
DTSTART:20221030T010000
END:STANDARD
BEGIN:DAYLIGHT
TZOFFSETFROM:+0200
TZOFFSETTO:+0300
TZNAME:EEST
DTSTART:20230326T010000
END:DAYLIGHT
BEGIN:STANDARD
TZOFFSETFROM:+0300
TZOFFSETTO:+0200
TZNAME:EET
DTSTART:20231029T010000
END:STANDARD
END:VTIMEZONE
BEGIN:VEVENT
DTSTART;VALUE=DATE:20221231
DTEND;VALUE=DATE:20230102
DTSTAMP:20260423T042832
CREATED:20250430T071710Z
LAST-MODIFIED:20250430T072219Z
UID:8212-1672444800-1672617599@taujenudvaras.lt
SUMMARY:2023 Новогодняя вечеринка в усадьбе Тауйенай
DESCRIPTION:Приглашаем вас встретить Новый год вместе с усадьбой Тауйенай\, где вас ждет традиционный праздник с группой «TIE Musicians"\, живая музыка саксофона\, диджей\, праздничный ужин и закуски\, празднично украшенная усадьба Тауйенай\, полуночный фейерверк и танцевальный коллектив Аникщяйского культурного центра «Baltoji pavana". Также с 19:00 до 22:00. Занятость детей (от 6 лет и старше). Количество мест ограничено\, поэтому не забудьте сообщить нам об этом при регистрации. \n- Цена в главном зале\, где будет проходить программа\, € 125 на человека\, € 90 на ребенка\n- В отдельном зале (без программы) € 90 на человека\, € 60 на ребенка.\n - Проживание не включено в стоимость билета. Размещение для 2 человек. от €55 до €130.\n- Проносить свой алкоголь запрещено. В зале будет работать бар\, где вы сможете приобрести напитки. \nБронирование билетов +370 618 25030 \n- Вы можете выбрать блюдо на ужин во время бронирования. Нажмите здесь\, чтобы просмотреть меню.\n- Билеты не подлежат обмену и возврату.\n- Покупатели билетов могут передавать свои билеты другим лицам.\n- В стоимость билета входит доступ в парк. \nПрограмма мероприятия:\n18:00 Приветствие\, регистрация\, закуски\, напитки;\n19:00 Приветствие хозяина\, ужин под музыку саксофона;\n20:30 Всех желающих приглашают в концертный зал\, где гостей будет развлекать группа «TIE muzikantai";\n21:00 Перерыв\, фуршет;\n21:45 Ведущий программы;\n22:15 Перерыв;\n23:00 Всех желающих приглашают в концертный зал\, где гостей будет развлекать группа «TIE muzikantai";\n23:40 Гостей приглашают на улицу для приема игристого вина;\n00:00 Праздничные фейерверки и веселье до 2 часов ночи
URL:https://taujenudvaras.lt/ru/event/2023-naujuju-metu-sutikimas-taujenu-dvare/
LOCATION:Усадьба Тауйенай\, Дваро г. 2\, Деревня Тауйенай\, Укмерге р. Сав.\, Таужену сен.\, LT-20352\, Lietuva
CATEGORIES:Развлечения
ATTACH;FMTTYPE=image/jpeg:https://taujenudvaras.lt/wp-content/uploads/2022/11/designecologist-5mj5jLhYWpY-unsplash-scaled.jpg
ORGANIZER;CN="%D0%A3%D1%81%D0%B0%D0%B4%D1%8C%D0%B1%D0%B0 %D0%A2%D0%B0%D1%83%D0%B9%D0%B5%D0%BD%D0%B0%D0%B9":MAILTO:info@taujenudvaras.lt
END:VEVENT
BEGIN:VEVENT
DTSTART;TZID=Europe/Vilnius:20230129T160000
DTEND;TZID=Europe/Vilnius:20230129T200000
DTSTAMP:20260423T042832
CREATED:20250430T072122Z
LAST-MODIFIED:20250430T072122Z
UID:8217-1675008000-1675022400@taujenudvaras.lt
SUMMARY:Вечер лучших рок-баллад в усадьбе Тауйенай
DESCRIPTION:2023 m. 29 января 4 вечера. В усадьбе Тауйенай в районе Укмерге прозвучит акустическая программа известных исполнителей\, которая порадует сердца и уши всех любителей рок-баллад. \nИсполнители с большой харизмой и сценическим опытом дадут акустический концерт\, в котором прозвучат известные поп- и рок-баллады. Настоящий праздник для меломанов\, которые получат возможность услышать лучшие хиты Рода Стюарта\, Стинга\, Scorpions\, Брайана Адамса\, U2\, Queen\, Bon Jovi\, Whitesnake и других легенд рока! \n«Это концерт\, который своим акустическим звучанием в уникальной обстановке усадьбы Тауйенай не только очарует и пленит вас\, но и заставит забыть об этом"\, - не сомневаются исполнители.\nКонцерт организован «Экспертами хорошей музыки". \nУчастники:\nДжеронимас Милюс / вокал\nЧесловас Габалис / вокал\nФеликсас Закревскис / фортепиано \n______________________________ \nСтоимость билетов: 15 €\, 20 €\, 25 €\nБилеты распространяются на сайте kakava.lt и за 1 час до начала мероприятия у входа в зал.\nДополнительная информация: vitalijus@gme.lt; мобильный +370 672 23266.
URL:https://taujenudvaras.lt/ru/event/geriausiu-roko-baladziu-vakaras-taujenu-dvare/
LOCATION:Усадьба Тауйенай\, Дваро г. 2\, Деревня Тауйенай\, Укмерге р. Сав.\, Таужену сен.\, LT-20352\, Lietuva
CATEGORIES:Концерты
ATTACH;FMTTYPE=image/jpeg:https://taujenudvaras.lt/wp-content/uploads/2022/11/Web-e1667462705242.jpg
ORGANIZER;CN="%D0%A3%D1%81%D0%B0%D0%B4%D1%8C%D0%B1%D0%B0 %D0%A2%D0%B0%D1%83%D0%B9%D0%B5%D0%BD%D0%B0%D0%B9":MAILTO:info@taujenudvaras.lt
END:VEVENT
END:VCALENDAR