BEGIN:VCALENDAR
VERSION:2.0
PRODID:-//Усадьба Тауенай - ECPv6.13.2.1//NONSGML v1.0//EN
CALSCALE:GREGORIAN
METHOD:PUBLISH
X-WR-CALNAME:Усадьба Тауенай
X-ORIGINAL-URL:https://taujenudvaras.lt/ru/
X-WR-CALDESC:Мероприятия для Усадьба Тауенай
REFRESH-INTERVAL;VALUE=DURATION:PT1H
X-Robots-Tag:noindex
X-PUBLISHED-TTL:PT1H
BEGIN:VTIMEZONE
TZID:Europe/Vilnius
BEGIN:DAYLIGHT
TZOFFSETFROM:+0200
TZOFFSETTO:+0300
TZNAME:EEST
DTSTART:20220327T010000
END:DAYLIGHT
BEGIN:STANDARD
TZOFFSETFROM:+0300
TZOFFSETTO:+0200
TZNAME:EET
DTSTART:20221030T010000
END:STANDARD
END:VTIMEZONE
BEGIN:VEVENT
DTSTART;VALUE=DATE:20221015
DTEND;VALUE=DATE:20221114
DTSTAMP:20260423T064452
CREATED:20250429T140000Z
LAST-MODIFIED:20250430T070923Z
UID:8152-1665792000-1668383999@taujenudvaras.lt
SUMMARY:2022 m. Хэллоуин в усадьбе Тауйенай
DESCRIPTION:С 15 октября. до 13 ноября каждый рабочий день с 17:00 до 22:00 Добро пожаловать на празднование Хэллоуина в поместье Тауйенай. Вас ждет готовая к приему шиурпнакчи усадьба\, предлагающая разнообразные развлечения: комнату ужасов\, карусель\, машинки\, батут\, поезд и\, конечно же\, посещение усадьбы и парка. \nРоддеры будут ждать вас с пятницы по воскресенье\, с 17:00 до 21:00. \nЦена билета 6-9 EUR \nПриглашаем вас принять участие в самом жутком конкурсе года!\nМестные жители\, школьные классы и посетители приглашаются принять участие в конкурсе на самую красивую тыкву с отличными призами: \n- Для населения - посещение сауны;\nДля школьных классов: 3-й приз - бесплатная экскурсия\, 2-й приз - бесплатная экскурсия\, 1-й приз - €500 на аренду помещений усадьбы;\nДля посетителей: 3-й приз - ночлег в отеле «Усадьба"\, 2-й приз - ночлег в номере люкс\, 1-й приз - подарочный ваучер на аренду помещений усадьбы или ночлег стоимостью €200. \nНеобходима предварительная регистрация. \nЗа дополнительной информацией обращайтесь\, +370 640 93 535.
URL:https://taujenudvaras.lt/ru/event/2022-m-helovynas-taujenu-dvare/
LOCATION:Усадьба Тауйенай\, Дваро г. 2\, Деревня Тауйенай\, Укмерге р. Сав.\, Таужену сен.\, LT-20352\, Lietuva
CATEGORIES:Фестивали
ATTACH;FMTTYPE=image/jpeg:https://taujenudvaras.lt/wp-content/uploads/2022/10/kenny-eliason-A59lWOrZVnw-unsplash-scaled.jpg
ORGANIZER;CN="%D0%A3%D1%81%D0%B0%D0%B4%D1%8C%D0%B1%D0%B0 %D0%A2%D0%B0%D1%83%D0%B9%D0%B5%D0%BD%D0%B0%D0%B9":MAILTO:info@taujenudvaras.lt
END:VEVENT
BEGIN:VEVENT
DTSTART;TZID=Europe/Vilnius:20221119T183000
DTEND;TZID=Europe/Vilnius:20221119T230000
DTSTAMP:20260423T064452
CREATED:20250430T071159Z
LAST-MODIFIED:20250430T071159Z
UID:8203-1668882600-1668898800@taujenudvaras.lt
SUMMARY:Классический концерт "Осень в усадьбе Тауйенай"
DESCRIPTION:Знание о музыке в литовском шляхетском дворце появилось около 1000 лет назад. Музыкальные идеи Ренессанса\, барокко и классицизма попали в Литву благодаря монахам и странствующим музыкантам. Однако в самом конце XVIII века\, после Третьего раздела\, Литва вошла в состав Российской империи. Музыкальная жизнь Литвы замедлилась… В этот сложный период именно поместья литовской знати стали средоточием музыки\, где не только играли оркестры\, но и создавались музыкальные школы\, где могли учиться самые талантливые дети. Дворянское восхищение и внимание к музыке было исключительным. \nПрограмма мероприятия:\n19 ноября Усадьба Тауйенай ждет гостей мероприятия с 18:30. \n19:00 - 19:30 Образовательная программа с участием самого Константинаса Радвилы. Герцог станет ведущим вечера и расскажет об истории нашего поместья.\n19:30 - 20:30 Выступления Trio Nantes и группы древнего танца Baltosios Pavanos\, где вы сможете послушать\, как время изменило музыку. Мы начнем с эпохи Возрождения и послушаем\, как она сменяется барокко\, классицизмом\, романтизмом и сдержанными звуками русского гнета. Наряду с арфой\, флейтой и трио сопрано\, «Белая павана" порадует вас выразительными и уникальными произведениями XV-XVI веков. костюмы.\n20:30 - 21:15 «Baltoji Pavana" пригласит вас сфотографироваться и научит танцевальным движениям эпохи Возрождения.\n21:15 Свободное время\, ужины и прогулки. \nБилеты можно приобрести здесь: tickets. \n- Количество билетов ограничено\, первые 30 билетов с кодом «RUDUO" получат скидку 20%. (На билеты в 15 ряду скидка не распространяется).\n- Билеты не подлежат возврату и могут быть переданы\, если вы не сможете посетить мероприятие.\n- Если у вас есть билет на вечернее мероприятие\, вы можете посетить усадьбу и парк днем без дополнительной платы. \nБронирование ужина и проживания +37064093535.
URL:https://taujenudvaras.lt/ru/event/klasikos-koncertas-ruduo-taujenu-dvare/
LOCATION:Усадьба Тауйенай\, Дваро г. 2\, Деревня Тауйенай\, Укмерге р. Сав.\, Таужену сен.\, LT-20352\, Lietuva
CATEGORIES:Концерты
ATTACH;FMTTYPE=image/jpeg:https://taujenudvaras.lt/wp-content/uploads/2022/11/image00001-e1668437297698.jpeg
ORGANIZER;CN="%D0%A3%D1%81%D0%B0%D0%B4%D1%8C%D0%B1%D0%B0 %D0%A2%D0%B0%D1%83%D0%B9%D0%B5%D0%BD%D0%B0%D0%B9":MAILTO:info@taujenudvaras.lt
END:VEVENT
END:VCALENDAR