BEGIN:VCALENDAR
VERSION:2.0
PRODID:-//Усадьба Тауенай - ECPv6.13.2.1//NONSGML v1.0//EN
CALSCALE:GREGORIAN
METHOD:PUBLISH
X-WR-CALNAME:Усадьба Тауенай
X-ORIGINAL-URL:https://taujenudvaras.lt/ru/
X-WR-CALDESC:Мероприятия для Усадьба Тауенай
REFRESH-INTERVAL;VALUE=DURATION:PT1H
X-Robots-Tag:noindex
X-PUBLISHED-TTL:PT1H
BEGIN:VTIMEZONE
TZID:Europe/Vilnius
BEGIN:DAYLIGHT
TZOFFSETFROM:+0200
TZOFFSETTO:+0300
TZNAME:EEST
DTSTART:20220327T010000
END:DAYLIGHT
BEGIN:STANDARD
TZOFFSETFROM:+0300
TZOFFSETTO:+0200
TZNAME:EET
DTSTART:20221030T010000
END:STANDARD
END:VTIMEZONE
BEGIN:VEVENT
DTSTART;VALUE=DATE:20220330
DTEND;VALUE=DATE:20220331
DTSTAMP:20260423T173049
CREATED:20250429T133928Z
LAST-MODIFIED:20250430T070440Z
UID:8097-1648598400-1648684799@taujenudvaras.lt
SUMMARY:Детский праздник в усадьбе Тауйенай
DESCRIPTION:30 апреля Приглашаем всех - и маленьких\, и взрослых - на детский праздник в усадьбе Тауйенай! \nВо время мероприятия вас ждут:\n- Развлечения\n- Аниматоры (детей будут развлекать «Пандуте" и другие веселые аниматоры)\n- Обучение выпечке шакочи\n- Детские фильмы\n- Детские мероприятия (мы будем делать поделки для украинского народа и играть с мыльными пузырями)\n- Концерт Саши Сонга.\n- Детская POP группа \,\,GARSIUKAI".\nДополнительные платные мероприятия:\n- Ярмарка торговцев (шакочи\, детские лакомства\, грузинские блюда\, сувениры для детей и т.д.)\n- Батутный парк\n- Стрельба из лука и арбалета\n- Другие мероприятия \n35€ за взрослого без ребенка. Детские занятия\, ароматерапия и игровая площадка не включены в стоимость. \nБатутный парк в усадебном парке Тауйенай будет открыт с 30 апреля. до 15 мая при благоприятных погодных условиях. \nБилеты можно будет приобрести в месте проведения мероприятия или онлайн (ссылка в описании мероприятия). \nСтоимость билета:\n10€/чел. для взрослых.\n5€/чел.  Для детей (7-18 лет)\, пожилых людей и людей с ограниченными возможностями. \nДля групп из 10 и более человек. Скидка 20%.
URL:https://taujenudvaras.lt/ru/event/vaiku-svente-taujenu-dvare/
LOCATION:Усадьба Тауйенай\, Дваро г. 2\, Деревня Тауйенай\, Укмерге р. Сав.\, Таужену сен.\, LT-20352\, Lietuva
CATEGORIES:Развлечения
ATTACH;FMTTYPE=image/jpeg:https://taujenudvaras.lt/wp-content/uploads/2022/08/td-zverynelis-03.jpg
ORGANIZER;CN="%D0%A3%D1%81%D0%B0%D0%B4%D1%8C%D0%B1%D0%B0 %D0%A2%D0%B0%D1%83%D0%B9%D0%B5%D0%BD%D0%B0%D0%B9":MAILTO:info@taujenudvaras.lt
END:VEVENT
END:VCALENDAR