BEGIN:VCALENDAR
VERSION:2.0
PRODID:-//Усадьба Тауенай - ECPv6.13.2.1//NONSGML v1.0//EN
CALSCALE:GREGORIAN
METHOD:PUBLISH
X-ORIGINAL-URL:https://taujenudvaras.lt/ru/
X-WR-CALDESC:Мероприятия для Усадьба Тауенай
REFRESH-INTERVAL;VALUE=DURATION:PT1H
X-Robots-Tag:noindex
X-PUBLISHED-TTL:PT1H
BEGIN:VTIMEZONE
TZID:Europe/Vilnius
BEGIN:DAYLIGHT
TZOFFSETFROM:+0200
TZOFFSETTO:+0300
TZNAME:EEST
DTSTART:20250330T010000
END:DAYLIGHT
BEGIN:STANDARD
TZOFFSETFROM:+0300
TZOFFSETTO:+0200
TZNAME:EET
DTSTART:20251026T010000
END:STANDARD
BEGIN:DAYLIGHT
TZOFFSETFROM:+0200
TZOFFSETTO:+0300
TZNAME:EEST
DTSTART:20260329T010000
END:DAYLIGHT
BEGIN:STANDARD
TZOFFSETFROM:+0300
TZOFFSETTO:+0200
TZNAME:EET
DTSTART:20261025T010000
END:STANDARD
END:VTIMEZONE
BEGIN:VEVENT
DTSTART;TZID=Europe/Vilnius:20251115T160000
DTEND;TZID=Europe/Vilnius:20251115T190000
DTSTAMP:20260421T203543
CREATED:20251006T061206Z
LAST-MODIFIED:20251006T061206Z
UID:9952-1763222400-1763233200@taujenudvaras.lt
SUMMARY:Казимерас Якутис / Презентационный концерт нового альбома World PerPus в усадьбе Тауйенай
DESCRIPTION:«Мои родители никогда не говорили о своей любви друг к другу. Но именно от них я унаследовал понимание того\, что семья - это самая большая ценность"\, - говорит автор и исполнитель песен Казимерас Якутис-Пагулбис.\n С осени и до конца года К. Якутис традиционно предстанет перед публикой: концертный тур\, новый альбом\, новая история\, которую он приглашает пережить вместе.\n«Для меня всегда важно общаться с людьми\, поэтому на концертах много небольших бесед\, в том числе и между песнями. Их будет много и в этот раз\, потому что я написал историю для каждой песни. Кстати\, они\, как и мои размышления\, будут доступны на виниле. Это мой первый альбом на виниле - я хотел\, чтобы он был особенным. Я замечаю\, что все старое возвращается: все больше людей слушают музыку на своих проигрывателях.\nЯ хочу\, чтобы публика уносила с концертов эмоции - это самое важное для меня. Я хочу\, чтобы слова\, мелодия\, даже взгляд оставались с ними дольше\, чем сама песня.\n На сцене я буду не один: меня будут сопровождать отличные музыканты - бэк-вокалистка Вайда Якутиене\, Гедиминас Легас (ритм) и Ауримас Дриукас (гитара\, клавишные).\nКонцертный тур традиционно начнется в октябре в деревне Пагульбио\, где я пережил столько первых впечатлений\, и закончится на второй день Рождества в Аникщяй. Для меня важно сохранить преемственность\, традиции. Это также ценности\, которыми я живу"\, - приглашает он.           \nДата: 2025-11-15\nНачало: 16:00 \nБилеты: https://www.bilietai.lt/lit/renginiai/koncertai/kazimieras-jakutis-naujo-albumo-pasaulis-perpus-pristatymo-koncertas-taujenu-dvare-480033/
URL:https://taujenudvaras.lt/ru/event/kazimieras-jakutis-naujo-albumo-pasaulis-perpus-pristatymo-koncertas-taujenu-dvare/
LOCATION:Усадьба Тауйенай\, Дваро г. 2\, Деревня Тауйенай\, Укмерге р. Сав.\, Таужену сен.\, LT-20352\, Lietuva
CATEGORIES:Концерты
ATTACH;FMTTYPE=image/jpeg:https://taujenudvaras.lt/wp-content/uploads/2025/10/kj-nuotrauka.jpg
ORGANIZER;CN="%D0%A3%D1%81%D0%B0%D0%B4%D1%8C%D0%B1%D0%B0 %D0%A2%D0%B0%D1%83%D0%B9%D0%B5%D0%BD%D0%B0%D0%B9":MAILTO:info@taujenudvaras.lt
END:VEVENT
BEGIN:VEVENT
DTSTART;VALUE=DATE:20251220
DTEND;VALUE=DATE:20260302
DTSTAMP:20260421T203543
CREATED:20251020T112850Z
LAST-MODIFIED:20260210T141555Z
UID:10054-1766188800-1772409599@taujenudvaras.lt
SUMMARY:Вечная история на льду 2026
DESCRIPTION:Фестиваль искусства\, света и тишины в усадьбе Тауйенай!Погрузитесь в мир света\, тишины и вечности на фестивале художественных ледяных скульптур «Вечная история во льду".\nЭто уникальный опыт\, где свет\, искусство и время объединяются. Фестиваль приглашает вас взглянуть на вечные темы по-новому - через красоту тающего льда и чувствительность современного творчества. \nЭкспозиция фестиваля состоит из двух частей\, приглашая вас познакомиться с миром ледового искусства вблизиВыставка фестиваля приглашает вас познакомиться с миром ледяного искусства и вечными историями\, оживающими из кристально чистого льда. Посетители увидят две впечатляющие ледяные скульптуры: чудо Рождества Христова в Вифлееме\, рассказывающее о Святом семействе\, и Тайную вечерю\, посвященную знаменитой встрече Иисуса с апостолами.  \nОбе выставки представлены как единый художественный опыт\, дополненный зрелищными световыми инсталляциями\, которые усиливают атмосферу историй\, запечатленных во льду. Это приглашение остановиться\, посмотреть и почувствовать эмоции\, созданные ледяным искусством.  \nСвет и скульптуры здесь говорят без слов - о вере\, времени и хрупкости человеческого творчества. \nСоздатели фестиваляДля этого проекта объединились известные литовские и зарубежные ледовые скульпторы\, хорошо известные на международных фестивалях: \n- Алексей Пода\,\n- Игорь Ткачевский\,\n- Миндаугас Якучионис\,\n- Кястутис Бенедикас\,\n- Альгирдас Вайштарас\,\n- Мечислав Войтковски\,\n- Кристапс Андерсон\,\n- Я сделал Сутаму (Ока). \nИх работы - это эмоции\, увековеченные во льду\, который здесь становится символом временности и вечности. \nПознайте искусство тишины«Вечная история на льду" - это не только зрелище\, но и чувство.\nЭто место\, где время замирает\, где искусство говорит со светом\, а зритель становится частью истории.\nСветовые инсталляции\, фоновая музыка и тщательно продуманное пространство приглашают вас не только увидеть\, но и почувствовать - диалог между светом\, тишиной и верой. \nВремя20 декабря 2025 года - 1 марта 2026 года\nI-II / ЗАКРЫТО\nIII-IV / 11 утра - 7 вечера\nМ-VI / 11-22 часа.\nVII / 11 утра - 7 вечера \nБилетыОбычный билет: 12 € / Билет со скидкой: 9 € \nКупите билет!Ссылка на билет:\n https://taujenudvaras.lt/qr/ledo-skulpturu-festivalis-amzinoji-istorija/ \nДети до 5 лет - бесплатно\nГруппы от 15 человек - скидка 15%\nДля жителей гостевого дома «Усадьба Тауйенай" мероприятие бесплатное. \nБилеты дороже на входе. \nПочему стоит посетить?+ Посмотрите на уникальные ледяные скульптуры\, созданные из тысяч килограммов льда.\n+ Почувствуйте магию световых и звуковых инсталляций в окружении усадьбы Тауйенай.\n+ Откройте для себя художественный и духовный опыт\, где быстротечность льда делает вечные ценности значимыми. \n«Вечная история во льду" - это не просто выставка. Это путешествие к внутреннему свету\, который каждый человек носит с собой.
URL:https://taujenudvaras.lt/ru/event/vechnaya-istorya-na-ldu-2026/
LOCATION:Усадьба Тауйенай\, Дваро г. 2\, Деревня Тауйенай\, Укмерге р. Сав.\, Таужену сен.\, LT-20352\, Lietuva
CATEGORIES:Фестивали
ATTACH;FMTTYPE=image/jpeg:https://taujenudvaras.lt/wp-content/uploads/2025/10/taujenu-dvaras-ledo_festivalis-2026.jpg
ORGANIZER;CN="%D0%A3%D1%81%D0%B0%D0%B4%D1%8C%D0%B1%D0%B0 %D0%A2%D0%B0%D1%83%D0%B9%D0%B5%D0%BD%D0%B0%D0%B9":MAILTO:info@taujenudvaras.lt
END:VEVENT
BEGIN:VEVENT
DTSTART;VALUE=DATE:20260620
DTEND;VALUE=DATE:20260621
DTSTAMP:20260421T203543
CREATED:20260217T115345Z
LAST-MODIFIED:20260318T112722Z
UID:12676-1781913600-1781999999@taujenudvaras.lt
SUMMARY:Летние танцы под открытым небом 2026
DESCRIPTION:Усадьба Taujėnai приглашает вас на настоящий летний вечер под звездами! Живая музыка\, танцы до полуночи и хорошее настроение ждут вас в одной из самых красивых усадеб Литвы. Приготовьте удобную обувь - вам не захочется сидеть на месте!   \nПрограмма:\n19:00-20:00 - Гусары - энергичное начало вечера\n20:00-21:00 - Литовцы - известные хиты и песни вместе\n21:00-22:00 - Bernužėliai - литовское настроение и веселье\n22:10-00:10 - DJ Sauben - танцы под открытым небом до самой ночи \nДвери открываются в 15:00. \nСтоимость билетов - от 20 евро (дети до 5 лет - бесплатно).\nВ стоимость билета входит посещение одного из старейших усадебных парков Литвы и зверинца.\nБилеты также можно будет приобрести в зале\, но они будут стоить дороже. \nДля групп из 15 и более человек. Действует дополнительная скидка 15%\, обращайтесь:  taujenudvaras@gmail.com\n \nДля проживающих в гостевом доме «Усадьба Тауйенай" мероприятие бесплатное.\nНомер гостевого дома: +370 618 25030 \nВНИМАНИЕ! \n\nПриносить свои напитки на мероприятие строго запрещено.\nЕда и напитки будут доступны на месте.\nПосетители несут ответственность за себя и своих детей.\nВ случае непредвиденных обстоятельств и отсутствия исполнителя\, Организаторы оставляют за собой право заменить исполнителя на равноценного.\n\nБилеты не подлежат обмену и возврату\, но могут быть переданы\, проданы или подарены другому лицу. \nБилеты: https://tickets.paysera.com/lt/event/sokiu-energija-taujenu-dvare
URL:https://taujenudvaras.lt/ru/event/vasaros-sokiai-po-atviru-dangumi-2026/
LOCATION:Усадьба Тауйенай\, Дваро г. 2\, Деревня Тауйенай\, Укмерге р. Сав.\, Таужену сен.\, LT-20352\, Lietuva
CATEGORIES:Концерты
ATTACH;FMTTYPE=image/jpeg:https://taujenudvaras.lt/wp-content/uploads/2026/02/taujenu-dvaras-renginys-vasaros-sokiai-po-atviru-dangumi-2026.jpg
ORGANIZER;CN="%D0%A3%D1%81%D0%B0%D0%B4%D1%8C%D0%B1%D0%B0 %D0%A2%D0%B0%D1%83%D0%B9%D0%B5%D0%BD%D0%B0%D0%B9":MAILTO:info@taujenudvaras.lt
END:VEVENT
BEGIN:VEVENT
DTSTART;VALUE=DATE:20260704
DTEND;VALUE=DATE:20260705
DTSTAMP:20260421T203543
CREATED:20260316T055055Z
LAST-MODIFIED:20260318T112644Z
UID:12994-1783123200-1783209599@taujenudvaras.lt
SUMMARY:Летняя сверхновая 2026
DESCRIPTION:В усадебном парке Тауйенай наступает бурный летний вечер - три концерта за один вечер. Разные выступления\, разное настроение\, и с каждым часом сцена будет становиться все более оживленной - музыка будет громче\, эмоции все сильнее\, а голоса будут петь вместе.  \nПрограмма:\n20:00-21:00 - Tie Musicians - начало вечера с большой энергией и известными песнями\n21:10-22:10 - Picasso с живой группой - хиты\, исполняемые всей толпой\n22:30-23:30 - Natalija Bunkė с живой группой - яркое шоу и мощный финал вечера \nДвери открываются в 17:00. \nСтоимость билета - от 25 евро (дети до 5 лет - бесплатно).\nВ стоимость билета входит посещение одного из старейших усадебных парков Литвы\, а также Жверинелиса.\nБилеты можно будет приобрести и на месте проведения мероприятия\, но они будут стоить дороже. \nДля групп из 15 и более человек. Действует дополнительная скидка 15%\, обращайтесь: taujenudvaras@gmail.com \nДля проживающих в гостевом доме «Усадьба Тауйенай" мероприятие бесплатное.\nНомер гостевого дома: +370 618 25030 \nВНИМАНИЕ!\n- Приносить свои напитки на мероприятие строго запрещено.\n- Еда и напитки будут доступны на месте.\n- Посетители несут ответственность за себя и своих детей.\n- В случае непредвиденных обстоятельств и отсутствия исполнителя\, Организаторы оставляют за собой право заменить исполнителя на равноценного. \nБилеты не подлежат обмену и возврату\, но могут быть переданы\, проданы или подарены другому лицу.
URL:https://taujenudvaras.lt/ru/event/%d0%bb%d0%b5%d1%82%d0%bd%d1%8f%d1%8f-%d1%81%d0%b2%d0%b5%d1%80%d1%85%d0%bd%d0%be%d0%b2%d0%b0%d1%8f-2026/
LOCATION:Усадьба Тауйенай\, Дваро г. 2\, Деревня Тауйенай\, Укмерге р. Сав.\, Таужену сен.\, LT-20352\, Lietuva
CATEGORIES:Концерты
ATTACH;FMTTYPE=image/jpeg:https://taujenudvaras.lt/wp-content/uploads/2026/03/taujenu-davaras-renginys-vasaros-supernaktis-2026.jpg
ORGANIZER;CN="%D0%A3%D1%81%D0%B0%D0%B4%D1%8C%D0%B1%D0%B0 %D0%A2%D0%B0%D1%83%D0%B9%D0%B5%D0%BD%D0%B0%D0%B9":MAILTO:info@taujenudvaras.lt
END:VEVENT
BEGIN:VEVENT
DTSTART;VALUE=DATE:20260718
DTEND;VALUE=DATE:20260719
DTSTAMP:20260421T203543
CREATED:20260223T063138Z
LAST-MODIFIED:20260318T112627Z
UID:12732-1784332800-1784419199@taujenudvaras.lt
SUMMARY:Летняя ночь легенд 2026
DESCRIPTION:Усадебный парк Тауйенай будет наполнен живым звуком\, светом и голосами\, которые не нуждаются в представлении. Некоторые композиции вернут вас в юность\, другие заставят танцевать\, а третьи будет петь весь парк в один голос. Три сценических времени - романтика\, ностальгия и бурный финал. Летний вечер\, историческая усадьба и музыка\, которая живет независимо от года.    \nПрограмма:\n19:30-21:00 - Жильвинас Жвагулис и Ирена Старошайте - легендарные дуэты\, песни о любви и воспоминания\n21:10-22:10 - Живая группа Rondo - хиты\, которые не звучат тихо\, и энергия\, которая заставляет вас встать со стула\n22:30-23:30 - Джордана Буткуте с живой группой - сильный голос\, эмоции и финал\, в котором поют все \nДвери открываются в 16:30. \nСтоимость билетов - от 25 евро (дети до 5 лет - бесплатно).\nВ стоимость билета входит посещение одного из старейших усадебных парков Литвы и зверинца.\nБилеты также можно будет приобрести на месте\, но они будут стоить дороже. \nДля групп из 15 и более человек. для получения дополнительной скидки 15%\, пожалуйста\, обращайтесь: taujenudvaras@gmail.com. \nДля проживающих в гостевом доме «Усадьба Тауйенай" мероприятие бесплатное.\nНомер гостевого дома: +370 618 25030 \nВНИМАНИЕ: \n - Проносить свои напитки на мероприятие строго запрещено;\n- Еда и напитки будут доступны для покупки в месте проведения мероприятия;\n- Посетители мероприятия несут ответственность за свою безопасность и безопасность своих детей;\n- В случае непредвиденных обстоятельств и отсутствия исполнителя\, организаторы оставляют за собой право заменить его равноценным исполнителем. \nБилеты не подлежат обмену и возврату\, но могут быть переданы\, проданы или подарены другому лицу.
URL:https://taujenudvaras.lt/ru/event/%d0%bb%d0%b5%d1%82%d0%bd%d1%8f%d1%8f-%d0%bd%d0%be%d1%87%d1%8c-%d0%bb%d0%b5%d0%b3%d0%b5%d0%bd%d0%b4-2026/
LOCATION:Усадьба Тауйенай\, Дваро г. 2\, Деревня Тауйенай\, Укмерге р. Сав.\, Таужену сен.\, LT-20352\, Lietuva
CATEGORIES:Концерты
ATTACH;FMTTYPE=image/jpeg:https://taujenudvaras.lt/wp-content/uploads/2026/02/taujenu-dvaras-renginys-legendu-vasaros-naktis-2026.jpg
ORGANIZER;CN="%D0%A3%D1%81%D0%B0%D0%B4%D1%8C%D0%B1%D0%B0 %D0%A2%D0%B0%D1%83%D0%B9%D0%B5%D0%BD%D0%B0%D0%B9":MAILTO:info@taujenudvaras.lt
END:VEVENT
BEGIN:VEVENT
DTSTART;VALUE=DATE:20260801
DTEND;VALUE=DATE:20260802
DTSTAMP:20260421T203543
CREATED:20260305T065153Z
LAST-MODIFIED:20260318T112715Z
UID:12962-1785542400-1785628799@taujenudvaras.lt
SUMMARY:Летние хиты под открытым небом 2026
DESCRIPTION:Летний концерт под открытым небом\, на котором прозвучат лучшие литовские хиты. Парк Исторической усадьбы и атмосфера вечера создадут уютное\, но в то же время энергичное настроение для всех любителей музыки.  \nПрограмма:\n19:40-20:40 - 16 Гц - популярные хиты и энергичное исполнение\n21:10-22:10 - Man-go с живой группой - ностальгия и всеми любимые песни\n22:30-23:30 - Šeškės с живой группой - живое шоу и танцы до последней песни \nДвери открываются в 17:30. \nСтоимость билета - от 25 евро (дети до 5 лет - бесплатно).\nВ стоимость билета входит посещение одного из старейших усадебных парков Литвы\, а также Жверинелиса.\nБилеты можно будет приобрести и на месте проведения мероприятия\, но они будут стоить дороже. \nДля групп из 15 и более человек. Действует дополнительная скидка 15%\, обращайтесь: taujenudvaras@gmail.com \nДля проживающих в гостевом доме «Усадьба Тауйенай" мероприятие бесплатное.\nНомер гостевого дома: +370 618 25030 \nВНИМАНИЕ!\n- Приносить свои напитки на мероприятие строго запрещено.\n- Еда и напитки будут доступны на месте.\n- Посетители несут ответственность за себя и своих детей.\n- В случае непредвиденных обстоятельств и отсутствия исполнителя\, Организаторы оставляют за собой право заменить исполнителя на равноценного. \nБилеты не подлежат обмену и возврату\, но могут быть переданы\, проданы или подарены другому лицу.
URL:https://taujenudvaras.lt/ru/event/%d0%bb%d0%b5%d1%82%d0%bd%d0%b8%d0%b5-%d1%85%d0%b8%d1%82%d1%8b-%d0%bf%d0%be%d0%b4-%d0%be%d1%82%d0%ba%d1%80%d1%8b%d1%82%d1%8b%d0%bc-%d0%bd%d0%b5%d0%b1%d0%be%d0%bc-2026/
LOCATION:Усадьба Тауйенай\, Дваро г. 2\, Деревня Тауйенай\, Укмерге р. Сав.\, Таужену сен.\, LT-20352\, Lietuva
CATEGORIES:Концерты
ATTACH;FMTTYPE=image/jpeg:https://taujenudvaras.lt/wp-content/uploads/2026/03/taujenu-davaras-renginys-vasaros-hitai-po-atviru-dangumi-2026.jpg
ORGANIZER;CN="%D0%A3%D1%81%D0%B0%D0%B4%D1%8C%D0%B1%D0%B0 %D0%A2%D0%B0%D1%83%D0%B9%D0%B5%D0%BD%D0%B0%D0%B9":MAILTO:info@taujenudvaras.lt
END:VEVENT
BEGIN:VEVENT
DTSTART;VALUE=DATE:20260822
DTEND;VALUE=DATE:20260823
DTSTAMP:20260421T203543
CREATED:20260218T062417Z
LAST-MODIFIED:20260318T112715Z
UID:12694-1787356800-1787443199@taujenudvaras.lt
SUMMARY:Голоса Евровидения под открытым небом 2026
DESCRIPTION:Усадьба Тауйенай на один вечер превратится в настоящую сцену «Евровидения"! Живой звук\, свет\, знакомые хиты и эмоции\, которым можно подпевать. Летняя ночь\, парк и музыка - все\, что нужно для незабываемого вечера.   \nПрограмма:\n20:00-21:00 - Овидиюс Вишняускас - легендарные работы и сильный голос\n21:10-22:10 - Моника Линките и Марк Новас - современные хиты и энергия\n22:30-23:30 - The Roop - шоу\, ритм и танцы до последней песни \nДвери открываются в 17:00. \nСтоимость билетов - от 25 евро (дети до 5 лет - бесплатно).\nВ стоимость билета входит посещение одного из старейших усадебных парков Литвы и зверинца.\nБилеты также можно будет приобрести в зале\, но они будут стоить дороже.\n \nДля групп из 15 и более человек. Действует дополнительная скидка 15%\, обращайтесь: taujenudvaras@gmail.com \nДля проживающих в гостевом доме «Усадьба Тауйенай" мероприятие бесплатное.\nНомер гостевого дома: +370 618 25030 \nВНИМАНИЕ! \n\nПриносить свои напитки на мероприятие строго запрещено.\nЕда и напитки будут доступны на месте.\nПосетители несут ответственность за себя и своих детей.\nВ случае непредвиденных обстоятельств и отсутствия исполнителя\, Организаторы оставляют за собой право заменить исполнителя на равноценного.\n\nБилеты не подлежат обмену и возврату\, но могут быть переданы\, проданы или подарены другому лицу.
URL:https://taujenudvaras.lt/ru/event/eurovizijos-balsai-po-atviru-dangumi-2026/
LOCATION:Усадьба Тауйенай\, Дваро г. 2\, Деревня Тауйенай\, Укмерге р. Сав.\, Таужену сен.\, LT-20352\, Lietuva
CATEGORIES:Концерты
ATTACH;FMTTYPE=image/jpeg:https://taujenudvaras.lt/wp-content/uploads/2026/02/taujenu-dvaras-renginys-eurovizijos-balsai-po-atviru-dangumi-2026.jpg
ORGANIZER;CN="%D0%A3%D1%81%D0%B0%D0%B4%D1%8C%D0%B1%D0%B0 %D0%A2%D0%B0%D1%83%D0%B9%D0%B5%D0%BD%D0%B0%D0%B9":MAILTO:info@taujenudvaras.lt
END:VEVENT
END:VCALENDAR