BEGIN:VCALENDAR
VERSION:2.0
PRODID:-//Усадьба Тауенай - ECPv6.13.2.1//NONSGML v1.0//EN
CALSCALE:GREGORIAN
METHOD:PUBLISH
X-WR-CALNAME:Усадьба Тауенай
X-ORIGINAL-URL:https://taujenudvaras.lt/ru/
X-WR-CALDESC:Мероприятия для Усадьба Тауенай
REFRESH-INTERVAL;VALUE=DURATION:PT1H
X-Robots-Tag:noindex
X-PUBLISHED-TTL:PT1H
BEGIN:VTIMEZONE
TZID:Europe/Vilnius
BEGIN:DAYLIGHT
TZOFFSETFROM:+0200
TZOFFSETTO:+0300
TZNAME:EEST
DTSTART:20220327T010000
END:DAYLIGHT
BEGIN:STANDARD
TZOFFSETFROM:+0300
TZOFFSETTO:+0200
TZNAME:EET
DTSTART:20221030T010000
END:STANDARD
END:VTIMEZONE
BEGIN:VEVENT
DTSTART;VALUE=DATE:20220226
DTEND;VALUE=DATE:20220228
DTSTAMP:20260423T203846
CREATED:20250429T132456Z
LAST-MODIFIED:20250430T070017Z
UID:8088-1645833600-1646006399@taujenudvaras.lt
SUMMARY:Зимний выпускной в усадьбе Тауйенай
DESCRIPTION:Мы приглашаем всех\, больших и маленьких\, наконец-то прогнать зиму из наших и ваших дворов! \nЖду тебя: \nДень 26:\n10 утра - 8 вечера Ярмарка торговцев\n12 вечера - 1 вечера Бесплатный турнир по стрельбе из лука\n2 вечера.   Художественная деятельность для детей \nДень 27:\n10 утра - 10 вечера Ярмарка торговцев\n12 вечера - 1 вечера Бесплатный турнир по стрельбе из лука\n12 вечера - 2 часа дня. Обучение выпечке\n14:00 Детское творчество\n17:00 Бой канапини и бекона\n18:00 Сожжение чума\n7 вечера Выступление мухобойки\nОба дня с 10 утра.        \nВсе\, кто придет на праздник\, смогут прогуляться по свободным пространствам усадьбы\, увидеть выставку амбаров\, посетить зверинец и парк.\nВечером в парке включат подсветку\, и вы сможете посетить парк камней. В усадьбе будет работать кафе \,\,Lėkštės studija". \nЦена билета 7 евро/чел.  (с возможностью посещения усадьбы и парка).\nДети\, пенсионеры и инвалиды - 5 евро/чел.\nДети до 7 лет проходят бесплатно. \nЗа дополнительной информацией обращайтесь по телефону +37064093535 или по электронной почте. info@taujenudvaras.lt.
URL:https://taujenudvaras.lt/ru/event/ziemos-isleistuves-taujenu-dvare/
LOCATION:Усадьба Тауйенай\, Дваро г. 2\, Деревня Тауйенай\, Укмерге р. Сав.\, Таужену сен.\, LT-20352\, Lietuva
CATEGORIES:Развлечения
ATTACH;FMTTYPE=image/jpeg:https://taujenudvaras.lt/wp-content/uploads/2022/08/td-sales-01.jpg
ORGANIZER;CN="%D0%A3%D1%81%D0%B0%D0%B4%D1%8C%D0%B1%D0%B0 %D0%A2%D0%B0%D1%83%D0%B9%D0%B5%D0%BD%D0%B0%D0%B9":MAILTO:info@taujenudvaras.lt
END:VEVENT
BEGIN:VEVENT
DTSTART;VALUE=DATE:20220212
DTEND;VALUE=DATE:20220215
DTSTAMP:20260423T203846
CREATED:20250429T132327Z
LAST-MODIFIED:20250430T065649Z
UID:8084-1644624000-1644883199@taujenudvaras.lt
SUMMARY:Выходные в кинотеатре "День любви" в усадьбе Тауйенай
DESCRIPTION:Если вы устали от долгих зимних вечеров и скучных выходных дома\, усадьба Тауйенай приглашает вас попробовать новое развлечение - CINEMA WEEKENDS AT TAUJĖNŲ MANOR. \nЭто будут ценные фильмы\, отобранные для разных групп зрителей\, которые будут демонстрироваться в зале усадьбы\, с угощениями\, общением и танцами. \nПервое свидание - по случаю Дня любви.\nПриглашаем вас забронировать проживание\, столик в Большом зале и ужин в кафе на 12 - 13 - 14 февраля. \nФильмы: \nДень 12:\n7-9 часов вечера. «Мистер и миссис Смит" 2 часа\n21-22 ч. перерыв (с возможностью пообщаться\, посетить кафе\, прогуляться по усадьбе)\n22-24 ч.   «Уродливая правда" 1 час 35 мин.\n24-02 ч. Танцевальный вечер \nДень 13:\n7-9pm «Потерять голову в Лас-Вегасе" 1 час 40 мин.\n21-22 ч. перерыв (с возможностью пообщаться\, посетить кафе\, прогуляться по усадьбе)\n22-24 ч.  «Эпоха Аделайн" 1 час 52 мин.\n24-02 ч. Танцевальный вечер \nДень 14:\n7-9pm «День святого Валентина" 1 час 36 мин.\n21-22 ч. перерыв (с возможностью пообщаться\, посетить кафе\, прогуляться по усадьбе)\n22-24 ч.  «50 оттенков серого" 2 часа 05 мин.\n24-02 час. Танцевальный вечер \n  \nЦены на проживание в усадьбе - 40\, 50\, 80€\, в гостевом доме - 30\, 40€/двухместные номера. \nБронирование столика в зале - 15€/чел\n(возможно бронирование без ночевки) \nТел. для бронирования: +37069064656\nПо вопросам ужина/закусок обращайтесь по тел.: +37061223444
URL:https://taujenudvaras.lt/ru/event/meiles-dienos-proga-kino-savaitgalis-taujenu-dvare/
LOCATION:Усадьба Тауйенай\, Дваро г. 2\, Деревня Тауйенай\, Укмерге р. Сав.\, Таужену сен.\, LT-20352\, Lietuva
CATEGORIES:Развлечения
ATTACH;FMTTYPE=image/jpeg:https://taujenudvaras.lt/wp-content/uploads/2022/08/td-spa-04.jpg
ORGANIZER;CN="%D0%A3%D1%81%D0%B0%D0%B4%D1%8C%D0%B1%D0%B0 %D0%A2%D0%B0%D1%83%D0%B9%D0%B5%D0%BD%D0%B0%D0%B9":MAILTO:info@taujenudvaras.lt
END:VEVENT
END:VCALENDAR