BEGIN:VCALENDAR
VERSION:2.0
PRODID:-//Taujėnų dvaras - ECPv6.13.2.1//NONSGML v1.0//EN
CALSCALE:GREGORIAN
METHOD:PUBLISH
X-WR-CALNAME:Taujėnų dvaras
X-ORIGINAL-URL:https://taujenudvaras.lt
X-WR-CALDESC:Taujėnų dvaras renginiai
REFRESH-INTERVAL;VALUE=DURATION:PT1H
X-Robots-Tag:noindex
X-PUBLISHED-TTL:PT1H
BEGIN:VTIMEZONE
TZID:Europe/Vilnius
BEGIN:DAYLIGHT
TZOFFSETFROM:+0200
TZOFFSETTO:+0300
TZNAME:EEST
DTSTART:20230326T010000
END:DAYLIGHT
BEGIN:STANDARD
TZOFFSETFROM:+0300
TZOFFSETTO:+0200
TZNAME:EET
DTSTART:20231029T010000
END:STANDARD
END:VTIMEZONE
BEGIN:VEVENT
DTSTART;VALUE=DATE:20230629
DTEND;VALUE=DATE:20230731
DTSTAMP:20260423T052155
CREATED:20250430T080930Z
LAST-MODIFIED:20250430T080930Z
UID:8299-1687996800-1690761599@taujenudvaras.lt
SUMMARY:Menininkės Estelos Žukauskienės paroda „Šilko magija“
DESCRIPTION:Taujėnų dvaras visą liepos mėnesį kviečia lankytojus į menininkės Estelos Žukauskienės parodą „Šilko magija“. \n\n\nParoda susideda iš skirtingo dydžio (apie 90×90 cm) ant šilko tapytų paveikslų. Jų tematika įvairi: nuo mandalų\, gyvybės medžių iki paveikslų su tautiniais motyvais. \n\n\nApie parodos autorę: Estela Žukauskienė – menininkė iš Kauno\, Kauno raj. Domeikavos gimnazijoje dirbanti technologijų mokytoja. Tapyba ant šilko – Estelos hobis\, kuriuo ji užsiima jau daugiau nei 15 metų. \n\n\nParoda veikia Taujėnų dvaro darbo laiku ir yra nemokama. Lankytojai turi susimokėti tik įprastą dvaro lankymo mokestį – 3 € / asm.
URL:https://taujenudvaras.lt/event/menininkes-estelos-zukauskienes-paroda-silko-magija/
LOCATION:Taujėnų dvaras\, Dvaro g. 2\, Taujėnų k.\, Ukmergės r. sav.\, Taujėnų sen.\, LT-20352\, Lietuva
CATEGORIES:Parodos
ATTACH;FMTTYPE=image/png:https://taujenudvaras.lt/wp-content/uploads/2023/07/20230627_135547.png
ORGANIZER;CN="Tauj%C4%97n%C5%B3 dvaras":MAILTO:info@taujenudvaras.lt
END:VEVENT
END:VCALENDAR