BEGIN:VCALENDAR
VERSION:2.0
PRODID:-//Taujėnų dvaras - ECPv6.13.2.1//NONSGML v1.0//EN
CALSCALE:GREGORIAN
METHOD:PUBLISH
X-WR-CALNAME:Taujėnų dvaras
X-ORIGINAL-URL:https://taujenudvaras.lt
X-WR-CALDESC:Taujėnų dvaras renginiai
REFRESH-INTERVAL;VALUE=DURATION:PT1H
X-Robots-Tag:noindex
X-PUBLISHED-TTL:PT1H
BEGIN:VTIMEZONE
TZID:Europe/Vilnius
BEGIN:DAYLIGHT
TZOFFSETFROM:+0200
TZOFFSETTO:+0300
TZNAME:EEST
DTSTART:20230326T010000
END:DAYLIGHT
BEGIN:STANDARD
TZOFFSETFROM:+0300
TZOFFSETTO:+0200
TZNAME:EET
DTSTART:20231029T010000
END:STANDARD
END:VTIMEZONE
BEGIN:VEVENT
DTSTART;TZID=Europe/Vilnius:20230129T160000
DTEND;TZID=Europe/Vilnius:20230129T200000
DTSTAMP:20260420T175121
CREATED:20250430T072122Z
LAST-MODIFIED:20250430T072122Z
UID:8213-1675008000-1675022400@taujenudvaras.lt
SUMMARY:Geriausių roko baladžių vakaras Taujėnų dvare
DESCRIPTION:2023 m. sausio 29 d. 16 val. Ukmergės rajone esančiame Taujėnų dvare suskambės akustinė žinomų atlikėjų programa\, kuri paglostys širdis ir ausis visiems roko baladžių gerbėjams. \nDidžiulę charizmą ir sceninę patirtį turintys atlikėjai surengs koncertą\, kuriame akustiškai suskambės žinomos pop ir roko baladės. Tikras širdies džiaugsmas geros muzikos mylėtojams\, kurie turės galimybę išgirsti geriausius Rod Stewart\, Sting\, Scorpions\, Bryan Adams\, U2\, Queen\, Bon Jovi\, Whitesnake ir kitų roko legendų hitus! \n„Tai koncertas\, kuris savo akustiniu skambesiu Unikalioje Taujėnų dvaro aplinkoje ne tik užburs\, įtrauks\, bet ir neleis jo pamiršti“\, – neabejoja atlikėjai.\nĮ koncertą kviečia „Geros muzikos ekspertai“. \nDalyvauja:\nJeronimas MILIUS / vokalas\nČeslovas GABALIS / vokalas\nFeliksas ZAKREVSKIS / pianinas \n______________________________ \nBilietų kainos: 15 €\, 20 €\, 25 €\nBilietus platina kakava.lt ir likus 1 val. iki renginio pradžios prie įėjimo į salę.\nDaugiau informacijos: vitalijus@gme.lt; mob. +370 672 23266.
URL:https://taujenudvaras.lt/event/geriausiu-roko-baladziu-vakaras-taujenu-dvare/
LOCATION:Taujėnų dvaras\, Dvaro g. 2\, Taujėnų k.\, Ukmergės r. sav.\, Taujėnų sen.\, LT-20352\, Lietuva
CATEGORIES:Koncertai
ATTACH;FMTTYPE=image/jpeg:https://taujenudvaras.lt/wp-content/uploads/2022/11/Web-e1667462705242.jpg
ORGANIZER;CN="Tauj%C4%97n%C5%B3 dvaras":MAILTO:info@taujenudvaras.lt
END:VEVENT
END:VCALENDAR