BEGIN:VCALENDAR
VERSION:2.0
PRODID:-//Taujėnų dvaras - ECPv6.13.2.1//NONSGML v1.0//EN
CALSCALE:GREGORIAN
METHOD:PUBLISH
X-ORIGINAL-URL:https://taujenudvaras.lt
X-WR-CALDESC:Taujėnų dvaras renginiai
REFRESH-INTERVAL;VALUE=DURATION:PT1H
X-Robots-Tag:noindex
X-PUBLISHED-TTL:PT1H
BEGIN:VTIMEZONE
TZID:Europe/Vilnius
BEGIN:DAYLIGHT
TZOFFSETFROM:+0200
TZOFFSETTO:+0300
TZNAME:EEST
DTSTART:20220327T010000
END:DAYLIGHT
BEGIN:STANDARD
TZOFFSETFROM:+0300
TZOFFSETTO:+0200
TZNAME:EET
DTSTART:20221030T010000
END:STANDARD
END:VTIMEZONE
BEGIN:VEVENT
DTSTART;TZID=Europe/Vilnius:20221119T183000
DTEND;TZID=Europe/Vilnius:20221119T230000
DTSTAMP:20260420T204552
CREATED:20250430T071159Z
LAST-MODIFIED:20250430T071159Z
UID:8199-1668882600-1668898800@taujenudvaras.lt
SUMMARY:Klasikos koncertas \,\,Ruduo Taujėnų dvare”
DESCRIPTION:Žinios apie muziką Lietuvos didikų rūmuose siekia apie 1000 metų. Renesanso\, baroko\, klasicizmo muzikinės idėjos pasiekdavo Lietuvą dėka vienuolių bei keliaujančių muzikantų. Vis dėlto\, XVIII amžiaus pačioje pabaigoje\, po trečiojo padalijimo Lietuva tapo Rusijos imperijos dalimi. Lietuvos muzikinis gyvenimas sulėtėjo…Šiuo sudėtingu laikotarpiu būtent Lietuvos didikų dvarai tapo muzikos židiniais kur ne tik skambėjo orkestrai\, tačiau buvo steigiamos muzikos mokyklos\, kuriose galėjo mokytis gabiausi vaikai. Didikų susižavėjimas ir dėmesys muzikai buvo išskirtinis. \nRenginio programa:\nLapkričio 19 d. Taujėnų dvaras laukia renginio svečių nuo 18:30 val. \n19:00 – 19:30 Jūsų laukia edukacinė programa su pačiu Konstantinu Radvila. Kunigaikštis ves vakarą bei papasakos mūsų dvaro istoriją.\n19:30 – 20:30 „Trio Nantes“ ir senovinių šokių kolektyvas „Baltosios Pavanos“ pasirodymai\, galėsite pasiklausysiti kaip laikas keitė muziką. Pradėsime nuo renesasnso ir klausysime kaip jį keičia barokas\, klasicizmas\, romantizmas ir suvaržyti Rusijos priespaudos garsai. Šalia arfos\, fleitos ir soprano trio\, Jūsų akis džiugins „Baltoji Pavana“ su išraiškingais ir unikaliais XV – XVI a. kostiumais.\n20:30 – 21:15 „Baltoji Pavana“ pakvies nusifotografuoti ir pamokys renesanso laikotarpio šokių žingsnelių.\n21:15 Laisvas laikas\, vakarienės ir pasivaikščiojimai. \nBilietus įsigiyti galite čia: bilietai. \n- Bilietų skaičius ribotas\, pirmieji 30 bilietų su kodu „RUDUO“ gaus 20% nuolaidą. (15 eilės bilietams nuolaida netaikoma).\n- Bilietai nėra grąžinami\, bus galimybė perleisti kitiems\, jeigu Jūs negalėsite dalyvauti renginyje.\n- Turint bilietą į vakarinį renginį\, dienos metu dvarą ir parką galėsite aplankyti be papildomo mokesčio. \nVakarienės ir nakvynės rezervacija +37064093535.
URL:https://taujenudvaras.lt/event/klasikos-koncertas-ruduo-taujenu-dvare/
LOCATION:Taujėnų dvaras\, Dvaro g. 2\, Taujėnų k.\, Ukmergės r. sav.\, Taujėnų sen.\, LT-20352\, Lietuva
CATEGORIES:Koncertai
ATTACH;FMTTYPE=image/jpeg:https://taujenudvaras.lt/wp-content/uploads/2022/11/image00001-e1668437297698.jpeg
ORGANIZER;CN="Tauj%C4%97n%C5%B3 dvaras":MAILTO:info@taujenudvaras.lt
END:VEVENT
END:VCALENDAR