BEGIN:VCALENDAR
VERSION:2.0
PRODID:-//Taujėnai Manor - ECPv6.13.2.1//NONSGML v1.0//EN
CALSCALE:GREGORIAN
METHOD:PUBLISH
X-WR-CALNAME:Taujėnai Manor
X-ORIGINAL-URL:https://taujenudvaras.lt/en/
X-WR-CALDESC:Events for Taujėnai Manor
REFRESH-INTERVAL;VALUE=DURATION:PT1H
X-Robots-Tag:noindex
X-PUBLISHED-TTL:PT1H
BEGIN:VTIMEZONE
TZID:Europe/Vilnius
BEGIN:DAYLIGHT
TZOFFSETFROM:+0200
TZOFFSETTO:+0300
TZNAME:EEST
DTSTART:20250330T010000
END:DAYLIGHT
BEGIN:STANDARD
TZOFFSETFROM:+0300
TZOFFSETTO:+0200
TZNAME:EET
DTSTART:20251026T010000
END:STANDARD
END:VTIMEZONE
BEGIN:VEVENT
DTSTART;VALUE=DATE:20250118
DTEND;VALUE=DATE:20250303
DTSTAMP:20260419T210359
CREATED:20250429T125908Z
LAST-MODIFIED:20250430T103809Z
UID:8045-1737158400-1740959999@taujenudvaras.lt
SUMMARY:ATLANTIDA Ice Sculpture Festival (EXTENDED)
DESCRIPTION:ATLANTIDA Ice Sculpture Festival – an event for the whole familyInternational Ice Sculpture Exhibition in Lithuania.\n18 January – 2 March 2025\, weekdays 10-17\, weekends 10-19. \nThis year\, the gates to the oceanic city of ATLANTIS opened in Taujėnai Manor.The theme of Atlantis is shrouded in myths and legends\, and this year the mysterious sunken city came to life in Taujėnai Manor in the form of a unique ice sculpture event. We invite you to delve into the mysteries of Atlantis. At the event you will be able to see spectacular ice sculptures: a giant kraken\, Poseidon with a trident\, crabs\, a shark\, fragments of a sunken ship\, corals and many other impressive parts of the remaining city. \nEach sculpture is not just a piece of ice. It’s the sculptor’s vision and talent expressed in a unique way. This is an opportunity to see how an ordinary element of nature – ice – is transformed into a spectacular work of art. Sculptors from Argentina\, Denmark\, Ukraine\, Lithuania and Latvia will present their work. \nNext to the ice sculptures\, there will be a fair with doughnuts\, waffles\, hot drinks\, etc.\, and the café “Lėkštės studija” on the estate will take care of the hungry. \nTicket pricesChildren under 3 years of age are admitted free of charge.\nMonday-Friday (weekdays) – EUR 10 (children from 3 to 14 years inclusive and seniors and disabled persons – EUR 7); \nSaturday-Sunday – EUR 13 (children from 3 to 14 years inclusive and seniors and disabled persons – EUR 10).\n\n \nDiscountsDiscounts of up to 43% for Facebook friends!  For discounts\, please visit our account Taujėnų dvaras (the discount will only be visible to those who have become our friends). \nGroups of 15 or more people get discounts of up to 43% (for group tickets call +370 699 27566).  \nOn-site discounts do not apply. \nThe ticket price includes a walk around the Taujėnai Manor and the park and menagerie. \nPlease treat all installations\, decorations and photo locations responsibly. Keep a safe distance\, do not touch the displays without permission\, and make sure that everyone enjoys a pleasant environment. \n					\n					Address: 2\, Dvaro street\, Taujėnai village\, Ukmergė district.
URL:https://taujenudvaras.lt/en/event/ledo-skulpturu-festivalis-atlantida-pratesta/
LOCATION:Taujėnai Manor\, Dvaro g. 2\, Taujėnai village\, Ukmergė r. municipality\, Taujėnai sen.\, LT-20352\, Lietuva
CATEGORIES:Festivals
ATTACH;FMTTYPE=image/jpeg:https://taujenudvaras.lt/wp-content/uploads/2024/12/taujenudvaras-atlantida.jpg
ORGANIZER;CN="Tauj%C4%97nai Manor":MAILTO:info@taujenudvaras.lt
END:VEVENT
END:VCALENDAR