BEGIN:VCALENDAR
VERSION:2.0
PRODID:-//Taujėnai Manor - ECPv6.13.2.1//NONSGML v1.0//EN
CALSCALE:GREGORIAN
METHOD:PUBLISH
X-WR-CALNAME:Taujėnai Manor
X-ORIGINAL-URL:https://taujenudvaras.lt/en/
X-WR-CALDESC:Events for Taujėnai Manor
REFRESH-INTERVAL;VALUE=DURATION:PT1H
X-Robots-Tag:noindex
X-PUBLISHED-TTL:PT1H
BEGIN:VTIMEZONE
TZID:Europe/Vilnius
BEGIN:DAYLIGHT
TZOFFSETFROM:+0200
TZOFFSETTO:+0300
TZNAME:EEST
DTSTART:20240331T010000
END:DAYLIGHT
BEGIN:STANDARD
TZOFFSETFROM:+0300
TZOFFSETTO:+0200
TZNAME:EET
DTSTART:20241027T010000
END:STANDARD
END:VTIMEZONE
BEGIN:VEVENT
DTSTART;VALUE=DATE:20241011
DTEND;VALUE=DATE:20241101
DTSTAMP:20260420T033242
CREATED:20250429T130138Z
LAST-MODIFIED:20250430T090101Z
UID:8055-1728604800-1730419199@taujenudvaras.lt
SUMMARY:On 11 October\, the spooky fun of Halloween returns to Taujėnai Manor once again!
DESCRIPTION:The scariest month of the year is back with a bang!  This year you will find 4 horror rooms\, a creepy trail\, clown and witch zones\, a hilarious horror gallery and\, of course\, scarecrows that will make even the bravest of the brave shiver. \nWhile the whole world is celebrating Halloween\, we will remember Lithuanian traditions and customs – and invite you to visit the All Souls’ Day Courtyard once again\, with educational activities led by craftsmen and therapist Monika. We will focus on fire\, feasting\, creativity and\, above all\, on interconnection.  \nAnd we haven’t forgotten the little ones! They can enjoy the train\, the carousel\, the menagerie and delicious doughnuts and waffles (ticket price includes the carousel\, the train and the menagerie).  \nDuring the Halloween celebrations\, Taujėnai Manor will not only have a café “Lėkštės studija”\, which will provide you with a wonderful lunch or dinner\, but also food vendors\, so you can have a snack and a hearty meal. For the hungry\, there are doughnuts\, waffles\, olives\, halva\, honey\, and for the very thirsty\, hot non-alcoholic wine and non-alcoholic beer. This year’s Halloween will not only be spooky\, but also delicious!   \nWe are waiting for you on Wednesday from 18:00 to 22:00\, on Thursday from 17:00 to 22:00 and on Friday and weekend from 14:00 to 22:00.\nScarecrows will be waiting for you on Wednesday from 18:00 and on Thursday-Sunday from 17:00. \nTicket prices*:\nIII-V\, VII – at the venue – EUR 15\, online – EUR 12 (III and IV for seniors and young people up to the age of 14 – EUR 8);\nVI and 31 October – at the venue – EUR 25\, online – EUR 20.\n* Children under 6 years of age are admitted free of charge. \nGroups of 15 people or more get a 15% discount (for group tickets call +370 699 27566).  \nTicket offices are open until 22:00 and visitors are admitted to the horror rooms until 22:00. Halloween activities at Taujėnai Manor will be open until 3 November.\nIn case of bad weather conditions – rain and strong winds of more than 15 m/s – the Haunted Trail will not be open\, but you will be able to visit the horror rooms\, the barn\, and the hell. \nPlease treat all installations\, decorations and photo locations responsibly. Keep a safe distance\, do not touch the displays without permission\, and make sure that everyone enjoys a pleasant environment.  \nAddress: 2\, Dvaro street\, Taujėnai village\, Ukmergė district. \n>  Buy a ticket\n>  Facebook event
URL:https://taujenudvaras.lt/en/event/spalio-11-d-i-taujenu-dvara-ir-vel-sugrizta-siurpiosios-helovyno-linksmybes/
LOCATION:Taujėnai Manor\, Dvaro g. 2\, Taujėnai village\, Ukmergė r. municipality\, Taujėnai sen.\, LT-20352\, Lietuva
CATEGORIES:Festivals
ATTACH;FMTTYPE=image/jpeg:https://taujenudvaras.lt/wp-content/uploads/2024/09/taujenudvaras-helovynas-2024.jpg
ORGANIZER;CN="Tauj%C4%97nai Manor":MAILTO:info@taujenudvaras.lt
END:VEVENT
END:VCALENDAR