BEGIN:VCALENDAR
VERSION:2.0
PRODID:-//Taujėnai Manor - ECPv6.13.2.1//NONSGML v1.0//EN
CALSCALE:GREGORIAN
METHOD:PUBLISH
X-ORIGINAL-URL:https://taujenudvaras.lt/en/
X-WR-CALDESC:Events for Taujėnai Manor
REFRESH-INTERVAL;VALUE=DURATION:PT1H
X-Robots-Tag:noindex
X-PUBLISHED-TTL:PT1H
BEGIN:VTIMEZONE
TZID:Europe/Vilnius
BEGIN:DAYLIGHT
TZOFFSETFROM:+0200
TZOFFSETTO:+0300
TZNAME:EEST
DTSTART:20230326T010000
END:DAYLIGHT
BEGIN:STANDARD
TZOFFSETFROM:+0300
TZOFFSETTO:+0200
TZNAME:EET
DTSTART:20231029T010000
END:STANDARD
END:VTIMEZONE
BEGIN:VEVENT
DTSTART;VALUE=DATE:20230203
DTEND;VALUE=DATE:20230218
DTSTAMP:20260421T124524
CREATED:20250430T072650Z
LAST-MODIFIED:20250430T072824Z
UID:8228-1675382400-1676678399@taujenudvaras.lt
SUMMARY:International Ice Sculpture Festival "The Kingdom of the Snow People"
DESCRIPTION:You’ve probably heard of the mystical snowman\, but do you know about the snowman kingdom\, where you can see not only snow lords\, but also warriors\, farmers\, children and many others? \nFrom 3 February\, 5 pm\, you will be able to see it all with your own eyes at the Ice Sculpture Festival “The Kingdom of Snow People” at Taujėnai Manor.\nMore than 30 ice sculptures\, and on 4 February\, the Ice Sculpture Festival will be held in Taujėnai Manor. – and a chance to see the process of creating the greats!\nVisitor admission: I-VII: 10am-8pm. \nAttention! Opening hours are subject to change depending on weather conditions\, so stay tuned to our Facebook page for updates. \nTicket prices: from 3 Eur. \nAdults buying online:\nV-VII – €10;\nI-IV – €6. \nAdults at the venue:\nV-VII – €13;\nI-IV – €10. \nChildren\, disabled and seniors:\nV-VII – €5;\nI-IV – €3. \nChildren under two years old can participate free of charge. \nDiscounts for groups of 10 or more\, visit times can be arranged individually by phone. +370 640 93 535. \n>  Ticket link\n>  Facebook event
URL:https://taujenudvaras.lt/en/event/tarptautinis-ledo-skulpturu-festivalis-sniego-zmoniu-karalyste/
LOCATION:Taujėnai Manor\, Dvaro g. 2\, Taujėnai village\, Ukmergė r. municipality\, Taujėnai sen.\, LT-20352\, Lietuva
CATEGORIES:Festivals
ATTACH;FMTTYPE=image/png:https://taujenudvaras.lt/wp-content/uploads/2023/01/TD-LEDAS-FB_EVENT-Cover-01-–-2-1.png
ORGANIZER;CN="Tauj%C4%97nai Manor":MAILTO:info@taujenudvaras.lt
END:VEVENT
END:VCALENDAR