BEGIN:VCALENDAR
VERSION:2.0
PRODID:-//Taujėnai Manor - ECPv6.13.2.1//NONSGML v1.0//EN
CALSCALE:GREGORIAN
METHOD:PUBLISH
X-ORIGINAL-URL:https://taujenudvaras.lt/en/
X-WR-CALDESC:Events for Taujėnai Manor
REFRESH-INTERVAL;VALUE=DURATION:PT1H
X-Robots-Tag:noindex
X-PUBLISHED-TTL:PT1H
BEGIN:VTIMEZONE
TZID:Europe/Vilnius
BEGIN:DAYLIGHT
TZOFFSETFROM:+0200
TZOFFSETTO:+0300
TZNAME:EEST
DTSTART:20220327T010000
END:DAYLIGHT
BEGIN:STANDARD
TZOFFSETFROM:+0300
TZOFFSETTO:+0200
TZNAME:EET
DTSTART:20221030T010000
END:STANDARD
END:VTIMEZONE
BEGIN:VEVENT
DTSTART;VALUE=DATE:20221015
DTEND;VALUE=DATE:20221114
DTSTAMP:20260421T164711
CREATED:20250429T140000Z
LAST-MODIFIED:20250430T070919Z
UID:8154-1665792000-1668383999@taujenudvaras.lt
SUMMARY:2022 m. Halloween at Taujėnai Manor
DESCRIPTION:From 15 October. until 13 November every working day from 17:00 to 22:00 Welcome to the Halloween celebration at Taujėnai Manor. You will find a manor ready for Shiurpnaks\, offering a variety of activities: a horror room\, a carousel\, cars\, trampoline\, train and\, of course\, a visit to the manor and the park. \nThe rodders will be waiting for you from Friday to Sunday\, from 17:00 to 21:00. \nTicket price 6-9 EUR \nYou’re also invited to take part in the creepiest contest of the year!\nCommunities\, school classes and visitors are invited to take part in the most beautiful pumpkin competition with great prizes: \n– For the community – a visit to the sauna;\nFor school classes: 3rd prize – free guided tour\, 2nd prize – free guided tour\, 1st prize – €500 for the rental of the Manor House premises;\nFor visitors: 3rd prize – overnight stay in the Manor House Hotel\, 2nd prize – overnight stay in a suite\, 1st prize – a gift voucher for the Manor House premises rental or overnight stay worth €200. \nPre-registration is required. \nFor more information please contact tel. +370 640 93 535.
URL:https://taujenudvaras.lt/en/event/2022-m-helovynas-taujenu-dvare/
LOCATION:Taujėnai Manor\, Dvaro g. 2\, Taujėnai village\, Ukmergė r. municipality\, Taujėnai sen.\, LT-20352\, Lietuva
CATEGORIES:Festivals
ATTACH;FMTTYPE=image/jpeg:https://taujenudvaras.lt/wp-content/uploads/2022/10/kenny-eliason-A59lWOrZVnw-unsplash-scaled.jpg
ORGANIZER;CN="Tauj%C4%97nai Manor":MAILTO:info@taujenudvaras.lt
END:VEVENT
END:VCALENDAR