BEGIN:VCALENDAR
VERSION:2.0
PRODID:-//Taujėnai Manor - ECPv6.13.2.1//NONSGML v1.0//EN
CALSCALE:GREGORIAN
METHOD:PUBLISH
X-WR-CALNAME:Taujėnai Manor
X-ORIGINAL-URL:https://taujenudvaras.lt/en/
X-WR-CALDESC:Events for Taujėnai Manor
REFRESH-INTERVAL;VALUE=DURATION:PT1H
X-Robots-Tag:noindex
X-PUBLISHED-TTL:PT1H
BEGIN:VTIMEZONE
TZID:Europe/Vilnius
BEGIN:DAYLIGHT
TZOFFSETFROM:+0200
TZOFFSETTO:+0300
TZNAME:EEST
DTSTART:20230326T010000
END:DAYLIGHT
BEGIN:STANDARD
TZOFFSETFROM:+0300
TZOFFSETTO:+0200
TZNAME:EET
DTSTART:20231029T010000
END:STANDARD
END:VTIMEZONE
BEGIN:VEVENT
DTSTART;VALUE=DATE:20230513
DTEND;VALUE=DATE:20230515
DTSTAMP:20260419T171345
CREATED:20250430T075153Z
LAST-MODIFIED:20250430T075153Z
UID:8271-1683936000-1684108799@taujenudvaras.lt
SUMMARY:Taujėnai Manor - Euro Samoyed Show 2023
DESCRIPTION:The idea of four breeders to introduce Samoyed breeding dogs to Europe and the world will be realised in Lithuania this year. Already on 13 May. The Samoyed Club of Lithuania organises the Euro Samoyed Show 2023 at Taujėnai Manor. A dog show will take place at Taujėnai Manor on 13-14 May. \nVisitors who have purchased a regular price ticket will be able to meet the pets.\nTickets are on sale on the day of the event at the Manor box office. \n>  More information
URL:https://taujenudvaras.lt/en/event/taujenu-dvare-euro-samoyed-show-2023/
LOCATION:Taujėnai Manor\, Dvaro g. 2\, Taujėnai village\, Ukmergė r. municipality\, Taujėnai sen.\, LT-20352\, Lietuva
CATEGORIES:Exhibitions
ATTACH;FMTTYPE=image/jpeg:https://taujenudvaras.lt/wp-content/uploads/2025/04/barcs-tamas-JqjSfBJWlEg-unsplash.jpg
ORGANIZER;CN="Tauj%C4%97nai Manor":MAILTO:info@taujenudvaras.lt
END:VEVENT
END:VCALENDAR