BEGIN:VCALENDAR
VERSION:2.0
PRODID:-//Taujėnai Manor - ECPv6.13.2.1//NONSGML v1.0//EN
CALSCALE:GREGORIAN
METHOD:PUBLISH
X-ORIGINAL-URL:https://taujenudvaras.lt/en/
X-WR-CALDESC:Events for Taujėnai Manor
REFRESH-INTERVAL;VALUE=DURATION:PT1H
X-Robots-Tag:noindex
X-PUBLISHED-TTL:PT1H
BEGIN:VTIMEZONE
TZID:Europe/Vilnius
BEGIN:DAYLIGHT
TZOFFSETFROM:+0200
TZOFFSETTO:+0300
TZNAME:EEST
DTSTART:20220327T010000
END:DAYLIGHT
BEGIN:STANDARD
TZOFFSETFROM:+0300
TZOFFSETTO:+0200
TZNAME:EET
DTSTART:20221030T010000
END:STANDARD
END:VTIMEZONE
BEGIN:VEVENT
DTSTART;VALUE=DATE:20220806
DTEND;VALUE=DATE:20220807
DTSTAMP:20260420T103942
CREATED:20250429T135822Z
LAST-MODIFIED:20250430T070735Z
UID:8150-1659744000-1659830399@taujenudvaras.lt
SUMMARY:Family Fitness Day at Taujėnai Manor
DESCRIPTION:Families are invited to have fun together\, create together\, exercise together and relax together. \nEnjoy sauna treatments\, massage therapies\, family group workouts\, children’s aromatherapy and animal companionship at Taujėnai Manor. \nProposals: \nOption 1\n€40 per adult with a child from 7 to 14 years. The price includes: \n– Group sports training for adults;\n– Children’s aromatherapy;\n– Sauna for adults and sauna treatments;\n– Group sports training for children;\n– Natural herbal tea after the sauna;\n– Foot stimulating treatment;\n– Massage therapy lesson for a group;\n– Zoo visit and feeding of the animals;\n– Children’s play area. \nOption 2\n€35 per adult without child. Children’s exercise\, aromatherapy and playground are not included. \nPre-registration is required by phone or text +370 601 66 780. \nIn case of bad weather\, the training will take place indoors.\nThe number of people is limited. We will organise an extra group if needed. \nTaujėnai Manor reserves the right to cancel the event.
URL:https://taujenudvaras.lt/en/event/sveikatingumo-diena-seimai-taujenu-dvare/
LOCATION:Taujėnai Manor\, Dvaro g. 2\, Taujėnai village\, Ukmergė r. municipality\, Taujėnai sen.\, LT-20352\, Lietuva
CATEGORIES:Entertainment
ATTACH;FMTTYPE=image/jpeg:https://taujenudvaras.lt/wp-content/uploads/2022/08/td-nuoma-01.jpg
ORGANIZER;CN="Tauj%C4%97nai Manor":MAILTO:info@taujenudvaras.lt
END:VEVENT
END:VCALENDAR