BEGIN:VCALENDAR
VERSION:2.0
PRODID:-//Taujėnai Manor - ECPv6.13.2.1//NONSGML v1.0//EN
CALSCALE:GREGORIAN
METHOD:PUBLISH
X-ORIGINAL-URL:https://taujenudvaras.lt/en/
X-WR-CALDESC:Events for Taujėnai Manor
REFRESH-INTERVAL;VALUE=DURATION:PT1H
X-Robots-Tag:noindex
X-PUBLISHED-TTL:PT1H
BEGIN:VTIMEZONE
TZID:Europe/Vilnius
BEGIN:DAYLIGHT
TZOFFSETFROM:+0200
TZOFFSETTO:+0300
TZNAME:EEST
DTSTART:20220327T010000
END:DAYLIGHT
BEGIN:STANDARD
TZOFFSETFROM:+0300
TZOFFSETTO:+0200
TZNAME:EET
DTSTART:20221030T010000
END:STANDARD
END:VTIMEZONE
BEGIN:VEVENT
DTSTART;VALUE=DATE:20220624
DTEND;VALUE=DATE:20220625
DTSTAMP:20260420T132757
CREATED:20250429T135638Z
LAST-MODIFIED:20250430T070557Z
UID:8144-1656028800-1656115199@taujenudvaras.lt
SUMMARY:Midsummer in Taujėnai Manor
DESCRIPTION:Traditional Midsummer Day returns to Taujėnai Manor! \nWelcome to the shortest night in Taujėnai Manor! There will be entertainment\, a concert by Žilvinas Žvagulis\, a chapel\, vendors\, various activities\, education\, refreshments and more. \nProgramme:\nHost of the celebration Duke Radvila \n18:00 Gates open\, tickets on sale.\n20:00 Guests will be entertained by Taujėnai Vocal Ensemble\n21:00 Performance by the band “Šilojis”\n22:00 Concert by Žilvinas Žvagulis\n23:20 Lighting of the Midsummer bonfire\, wreath flying\, fern ring hunt\n24:00     until 02:00 DJ and entertainment \n35€ per adult without child. Children’s exercise\, aromatherapy and playground are not included. \nThe festival will feature a traders’ fair\, aromatherapy classes\, a shakochi baking education and a petting zoo. \nTicket price: 15€/person. \nTickets will be charged during the event.\nChildren under 7 years old get in free.
URL:https://taujenudvaras.lt/en/event/jonines-taujenu-dvare/
LOCATION:Taujėnai Manor\, Dvaro g. 2\, Taujėnai village\, Ukmergė r. municipality\, Taujėnai sen.\, LT-20352\, Lietuva
CATEGORIES:Entertainment
ATTACH;FMTTYPE=image/jpeg:https://taujenudvaras.lt/wp-content/uploads/2022/08/td-paslaugos-04.jpg
ORGANIZER;CN="Tauj%C4%97nai Manor":MAILTO:info@taujenudvaras.lt
END:VEVENT
END:VCALENDAR