BEGIN:VCALENDAR
VERSION:2.0
PRODID:-//Gut Taujėnai - ECPv6.13.2.1//NONSGML v1.0//EN
CALSCALE:GREGORIAN
METHOD:PUBLISH
X-ORIGINAL-URL:https://taujenudvaras.lt/de/
X-WR-CALDESC:Veranstaltungen für Gut Taujėnai
REFRESH-INTERVAL;VALUE=DURATION:PT1H
X-Robots-Tag:noindex
X-PUBLISHED-TTL:PT1H
BEGIN:VTIMEZONE
TZID:Europe/Vilnius
BEGIN:DAYLIGHT
TZOFFSETFROM:+0200
TZOFFSETTO:+0300
TZNAME:EEST
DTSTART:20250330T010000
END:DAYLIGHT
BEGIN:STANDARD
TZOFFSETFROM:+0300
TZOFFSETTO:+0200
TZNAME:EET
DTSTART:20251026T010000
END:STANDARD
END:VTIMEZONE
BEGIN:VEVENT
DTSTART;VALUE=DATE:20250329
DTEND;VALUE=DATE:20250330
DTSTAMP:20260423T140249
CREATED:20250429T125702Z
LAST-MODIFIED:20250429T125702Z
UID:8034-1743206400-1743292799@taujenudvaras.lt
SUMMARY:2025 Litauische Meisterschaften im Armbeugen auf dem Gutshof Taujėnai
DESCRIPTION:
URL:https://taujenudvaras.lt/de/event/2025-litauische-meisterchaften-im-armbaugen-auf-dem-gutshof-taujenai/
LOCATION:Gutshof Taujėnai\, Dvaro g. 2\, Dorf Taujėnai\, Ukmergė r. sav.\, Taujėnų sen.\, LT-20352\, Lietuva
CATEGORIES:Meisterschaften
ATTACH;FMTTYPE=image/jpeg:https://taujenudvaras.lt/wp-content/uploads/2025/01/td-ranku-lenkimo-cempionatas.jpg
ORGANIZER;CN="Gutshof Tauj%C4%97nai":MAILTO:info@taujenudvaras.lt
END:VEVENT
END:VCALENDAR