BEGIN:VCALENDAR
VERSION:2.0
PRODID:-//Gut Taujėnai - ECPv6.13.2.1//NONSGML v1.0//EN
CALSCALE:GREGORIAN
METHOD:PUBLISH
X-ORIGINAL-URL:https://taujenudvaras.lt/de/
X-WR-CALDESC:Veranstaltungen für Gut Taujėnai
REFRESH-INTERVAL;VALUE=DURATION:PT1H
X-Robots-Tag:noindex
X-PUBLISHED-TTL:PT1H
BEGIN:VTIMEZONE
TZID:Europe/Vilnius
BEGIN:DAYLIGHT
TZOFFSETFROM:+0200
TZOFFSETTO:+0300
TZNAME:EEST
DTSTART:20230326T010000
END:DAYLIGHT
BEGIN:STANDARD
TZOFFSETFROM:+0300
TZOFFSETTO:+0200
TZNAME:EET
DTSTART:20231029T010000
END:STANDARD
END:VTIMEZONE
BEGIN:VEVENT
DTSTART;VALUE=DATE:20230822
DTEND;VALUE=DATE:20230824
DTSTAMP:20260424T220305
CREATED:20250430T080541Z
LAST-MODIFIED:20250430T104007Z
UID:8297-1692662400-1692835199@taujenudvaras.lt
SUMMARY:Wettbewerb im Federsammeln auf dem Gut Taujėnai
DESCRIPTION:Pfauen\, Fasane und andere Vögel beginnen Mitte Juli\, ihre Federn abzustoßen. Gerade jetzt laden wir Sie ein\, an einem ungewöhnlichen Wettbewerb teilzunehmen und tolle Preise zu gewinnen. \n22-23 Juli\, 10 bis 20 Uhr. Auf dem Gutshof Taujėnai wird ein Federsammelwettbewerb stattfinden. \nDie Federn der farbenfrohen Vögel werden auf dem Gebiet des Gutshofs Taujėnai gesammelt. Sie dürfen keinen gespaltenen oder gebrochenen Stiel haben. Jeder Teilnehmer erhält ein spezielles Armband\, und auch die anderen Besucher können ihren Favoriten helfen. \nDer erste Preis ist eine Übernachtung in einer Palace Suite;\nDer zweite Preis ist eine Übernachtung in einem Palastzimmer;\nDer dritte Platz ist in einem Gästehaus in der Nähe des Palastes. \nTeilnahmegebühr - 8 Euro.\nDer Preis beinhaltet den Besuch des Parks und der Menagerie\, alle vom Teilnehmer gesammelten Federn und für Kinder bis zu 10 Jahren. Trampolin-Aktivitäten sind inbegriffen. \n>  Kaufen Sie ein Ticket
URL:https://taujenudvaras.lt/de/event/plunksnu-rinkimo-varzybos-taujenu-dvare/
LOCATION:Gutshof Taujėnai\, Dvaro g. 2\, Dorf Taujėnai\, Ukmergė r. sav.\, Taujėnų sen.\, LT-20352\, Lietuva
CATEGORIES:Meisterschaften
ATTACH;FMTTYPE=image/jpeg:https://taujenudvaras.lt/wp-content/uploads/2023/01/DSC3077.jpg
ORGANIZER;CN="Gutshof Tauj%C4%97nai":MAILTO:info@taujenudvaras.lt
END:VEVENT
END:VCALENDAR