BEGIN:VCALENDAR
VERSION:2.0
PRODID:-//Gut Taujėnai - ECPv6.13.2.1//NONSGML v1.0//EN
CALSCALE:GREGORIAN
METHOD:PUBLISH
X-WR-CALNAME:Gut Taujėnai
X-ORIGINAL-URL:https://taujenudvaras.lt/de/
X-WR-CALDESC:Veranstaltungen für Gut Taujėnai
REFRESH-INTERVAL;VALUE=DURATION:PT1H
X-Robots-Tag:noindex
X-PUBLISHED-TTL:PT1H
BEGIN:VTIMEZONE
TZID:Europe/Vilnius
BEGIN:DAYLIGHT
TZOFFSETFROM:+0200
TZOFFSETTO:+0300
TZNAME:EEST
DTSTART:20260329T010000
END:DAYLIGHT
BEGIN:STANDARD
TZOFFSETFROM:+0300
TZOFFSETTO:+0200
TZNAME:EET
DTSTART:20261025T010000
END:STANDARD
END:VTIMEZONE
BEGIN:VEVENT
DTSTART;VALUE=DATE:20260801
DTEND;VALUE=DATE:20260802
DTSTAMP:20260420T124818
CREATED:20260305T065153Z
LAST-MODIFIED:20260318T112718Z
UID:12971-1785542400-1785628799@taujenudvaras.lt
SUMMARY:Sommerhits unter freiem Himmel 2026
DESCRIPTION:Ein Open-Air-Sommerkonzert mit den besten litauischen Hits. Der Park des Historischen Gutshofs und die Atmosphäre des Abends werden eine gemütliche\, aber gleichzeitig energiegeladene Stimmung für alle Musikliebhaber schaffen.  \nProgramm:\n19:40-20:40 - 16 Hz - beliebte Hits und energiegeladene Performance\n21:10-22:10 - Man-go mit Live-Band - Nostalgie und jedermanns Lieblingslieder\n22:30-23:30 - Šeškės mit einer Live-Band - eine lebhafte Show und Tanz bis zum letzten Lied \nDie Türen öffnen um 17:30 Uhr. \nDer Eintrittspreis beträgt ab 25 EUR (für Kinder unter 5 Jahren kostenlos).\nIm Eintrittspreis ist der Besuch eines der ältesten Gutsparks Litauens sowie von Žvėrynėlis enthalten.\nDie Eintrittskarten sind auch vor Ort erhältlich\, kosten jedoch mehr. \nFür Gruppen von 15 oder mehr Personen. Es gilt ein zusätzlicher Rabatt von 15%\, Kontakt: taujenudvaras@gmail.com \nDie Veranstaltung ist für Gäste des Taujėnai Manor Guest House kostenlos.\nGuest House number: +370 618 25030 \nACHTUNG!\n- Das Mitbringen von eigenen Getränken zu der Veranstaltung ist strengstens untersagt.\n- Speisen und Getränke werden vor Ort erhältlich sein.\n- Die Besucher sind für sich und ihre Kinder selbst verantwortlich.\n- Im Falle unvorhergesehener Umstände und der Abwesenheit eines ausübenden Künstlers behalten sich die Veranstalter das Recht vor\, den ausübenden Künstler durch einen gleichwertigen Künstler zu ersetzen. \nDie Tickets sind nicht umtauschbar und nicht erstattungsfähig\, können aber an eine andere Person übertragen\, verkauft oder verschenkt werden.
URL:https://taujenudvaras.lt/de/event/sommerhits-unter-freiem-himmel-2026/
LOCATION:Gutshof Taujėnai\, Dvaro g. 2\, Dorf Taujėnai\, Ukmergė r. sav.\, Taujėnų sen.\, LT-20352\, Lietuva
CATEGORIES:Konzerte
ATTACH;FMTTYPE=image/jpeg:https://taujenudvaras.lt/wp-content/uploads/2026/03/taujenu-davaras-renginys-vasaros-hitai-po-atviru-dangumi-2026.jpg
ORGANIZER;CN="Gutshof Tauj%C4%97nai":MAILTO:info@taujenudvaras.lt
END:VEVENT
BEGIN:VEVENT
DTSTART;VALUE=DATE:20260822
DTEND;VALUE=DATE:20260823
DTSTAMP:20260420T124818
CREATED:20260218T062417Z
LAST-MODIFIED:20260318T112719Z
UID:12700-1787356800-1787443199@taujenudvaras.lt
SUMMARY:Eurovision Voices Open Air 2026
DESCRIPTION:Das Herrenhaus von Taujėnai wird sich für einen Abend in eine echte Eurovisionsbühne verwandeln! Live-Sound\, Licht\, bekannte Hits und Emotionen zum Mitsingen. Eine Sommernacht\, ein Park und Musik - alles\, was man für einen unvergesslichen Abend braucht.   \nProgramm:\n20:00-21:00 - Ovidijus Vyšniauskas - legendäre Werke und starke Stimme\n21:10-22:10 - Monika Linkytė und Mark Novas - Zeitgenössische Hits und Energie\n22:30-23:30 - The Roop - Show\, Rhythmus und Tanz bis zum letzten Lied \nDie Türen werden um 17:00 Uhr geöffnet. \nDie Tickets kosten ab 25 EUR (Kinder unter 5 Jahren sind frei).\nIm Eintrittspreis enthalten ist der Besuch eines der ältesten Gutsparks Litauens und der Menagerie.\nDie Karten sind auch vor Ort erhältlich\, kosten aber mehr.\n \nFür Gruppen von 15 oder mehr Personen. Es gilt ein zusätzlicher Rabatt von 15%\, Kontakt: taujenudvaras@gmail.com \nDie Veranstaltung ist für Gäste des Taujėnai Manor Guest House kostenlos.\nGuest House number: +370 618 25030 \nACHTUNG! \n\nDas Mitbringen von eigenen Getränken zu der Veranstaltung ist strengstens untersagt.\nSpeisen und Getränke werden vor Ort erhältlich sein.\nDie Besucher sind für sich und ihre Kinder selbst verantwortlich.\nIm Falle unvorhergesehener Umstände und der Abwesenheit eines ausübenden Künstlers behalten sich die Veranstalter das Recht vor\, den ausübenden Künstler durch einen gleichwertigen Künstler zu ersetzen.\n\nDie Tickets sind nicht umtauschbar und nicht erstattungsfähig\, können aber an eine andere Person übertragen\, verkauft oder verschenkt werden.
URL:https://taujenudvaras.lt/de/event/eurovizijos-balsai-po-atviru-dangumi-2026/
LOCATION:Gutshof Taujėnai\, Dvaro g. 2\, Dorf Taujėnai\, Ukmergė r. sav.\, Taujėnų sen.\, LT-20352\, Lietuva
CATEGORIES:Konzerte
ATTACH;FMTTYPE=image/jpeg:https://taujenudvaras.lt/wp-content/uploads/2026/02/taujenu-dvaras-renginys-eurovizijos-balsai-po-atviru-dangumi-2026.jpg
ORGANIZER;CN="Gutshof Tauj%C4%97nai":MAILTO:info@taujenudvaras.lt
END:VEVENT
END:VCALENDAR