BEGIN:VCALENDAR
VERSION:2.0
PRODID:-//Gut Taujėnai - ECPv6.13.2.1//NONSGML v1.0//EN
CALSCALE:GREGORIAN
METHOD:PUBLISH
X-WR-CALNAME:Gut Taujėnai
X-ORIGINAL-URL:https://taujenudvaras.lt/de/
X-WR-CALDESC:Veranstaltungen für Gut Taujėnai
REFRESH-INTERVAL;VALUE=DURATION:PT1H
X-Robots-Tag:noindex
X-PUBLISHED-TTL:PT1H
BEGIN:VTIMEZONE
TZID:Europe/Vilnius
BEGIN:DAYLIGHT
TZOFFSETFROM:+0200
TZOFFSETTO:+0300
TZNAME:EEST
DTSTART:20230326T010000
END:DAYLIGHT
BEGIN:STANDARD
TZOFFSETFROM:+0300
TZOFFSETTO:+0200
TZNAME:EET
DTSTART:20231029T010000
END:STANDARD
END:VTIMEZONE
BEGIN:VEVENT
DTSTART;VALUE=DATE:20230513
DTEND;VALUE=DATE:20230515
DTSTAMP:20260423T135136
CREATED:20250430T075153Z
LAST-MODIFIED:20250430T075153Z
UID:8270-1683936000-1684108799@taujenudvaras.lt
SUMMARY:Gutshof Taujėnai - Euro-Samojeden-Ausstellung 2023
DESCRIPTION:Die Idee von vier Züchtern\, Samojeden-Zuchthunde in Europa und der Welt einzuführen\, wird dieses Jahr in Litauen verwirklicht. Bereits am 13. Mai. Der Samojeden-Klub von Litauen organisiert die Euro-Samojeden-Ausstellung 2023 auf dem Gutshof Taujėnai. Am 13. und 14. Mai findet im Herrenhaus von Taujėnai eine Hundeausstellung statt. \nBesucher\, die eine Eintrittskarte zum regulären Preis erworben haben\, können die Haustiere treffen.\nDie Karten werden am Tag der Veranstaltung an der Kasse des Herrenhauses verkauft. \n>  Weitere Informationen
URL:https://taujenudvaras.lt/de/event/taujenu-dvare-euro-samoyed-show-2023/
LOCATION:Gutshof Taujėnai\, Dvaro g. 2\, Dorf Taujėnai\, Ukmergė r. sav.\, Taujėnų sen.\, LT-20352\, Lietuva
CATEGORIES:Ausstellungen
ATTACH;FMTTYPE=image/jpeg:https://taujenudvaras.lt/wp-content/uploads/2025/04/barcs-tamas-JqjSfBJWlEg-unsplash.jpg
ORGANIZER;CN="Gutshof Tauj%C4%97nai":MAILTO:info@taujenudvaras.lt
END:VEVENT
END:VCALENDAR